BEGIN:VCALENDAR
VERSION:2.0
PRODID:-//wp-events-plugin.com//7.2.3.1//EN
TZID:America/Detroit
X-WR-TIMEZONE:America/Detroit
BEGIN:VEVENT
UID:36208@arabamerica.com
DTSTART;TZID=America/Detroit:20260502T190000
DTEND;TZID=America/Detroit:20260502T230000
DTSTAMP:20260420T190102Z
URL:https://www.arabamerica.com/events/behind-closed-doors-a-reiki-infused
 -lebanese-speakeasy-dinner/
SUMMARY:Behind Closed Doors: A Reiki-Infused Lebanese Speakeasy Dinner
DESCRIPTION:NEW YORK\, NY\n\n&nbsp\;\n\nFor the first time in NYC\, experie
 nce the fusion of ancient Lebanese flavors and modern energy healing.\n\nS
 tep into a hidden world where every bite is a form of alchemy. Grey’s Hi
 dden Levantine invites you to a one-of-a-kind speakeasy dinner right in a 
 cozy\, homemade setting. This isn't just a meal\, it is Reiki-infused food
  crafted to nourish the body and heal the soul.\n\nThe Experience:\n\n• 
 Levantine Mezze: Traditional\, soul-soothing starters made with intention.
 \n\n• Beirut Back-Alley Meals: Bold\, grilled\, and hearty flavors from 
 the heart of Lebanon.\n\n• The Vibe: Chill atmosphere\, crafted drinks\,
  and the timeless voice of Fairuz setting the rhythm of the night.\n\nWhet
 her you're here for the flavorful food\, the wine\, or the unique energy o
 f the space\, you’ll leave feeling grounded\, full\, and right at home.\
 n\nReservations start this May. Keep the secret.\n\nExact Location details
  will be provided via email after your reservation is confirmed. Please no
 te that all reservations are final and non-refundable.\n\nhttps://www.even
 tbrite.com/e/behind-closed-doors-a-reiki-infused-lebanese-speakeasy-dinner
 -tickets-1987281133366?aff=ebdssbdestsearch\n\n&nbsp\;\n\n&nbsp\;
ATTACH;FMTTYPE=image/jpeg:https://www.arabamerica.com/wp-content/uploads/2
 026/04/image-26.webp
LOCATION:Hanover Square\, Hanover Square\, New York\, NY\, United States
GEO:42.167624;-76.820829
X-APPLE-STRUCTURED-LOCATION;VALUE=URI;X-ADDRESS=Hanover Square\, New York\,
  NY\, United States;X-APPLE-RADIUS=100;X-TITLE=Hanover Square:geo:42.16762
 4,-76.820829
END:VEVENT
BEGIN:VTIMEZONE
TZID:America/Detroit
X-LIC-LOCATION:America/Detroit
BEGIN:DAYLIGHT
DTSTART:20260308T030000
TZOFFSETFROM:-0500
TZOFFSETTO:-0400
TZNAME:EDT
END:DAYLIGHT
END:VTIMEZONE
END:VCALENDAR