BEGIN:VCALENDAR
VERSION:2.0
PRODID:-//wp-events-plugin.com//7.2.3.1//EN
TZID:America/Detroit
X-WR-TIMEZONE:America/Detroit
BEGIN:VEVENT
UID:34013@arabamerica.com
DTSTART;TZID=America/Detroit:20250214T220000
DTEND;TZID=America/Detroit:20250214T234500
DTSTAMP:20250127T043023Z
URL:https://www.arabamerica.com/events/beirut-nights-in-presents-baerut-to
 -dc-a-special-valentines-day-popup/
SUMMARY:Beirut Nights In Presents: 'Bae'rut To DC - A Special Valentine's D
 ay Popup
DESCRIPTION:Washington\, DC\n\nBeirut Nights In Presents: 'Bae'rut to DC!\n
 \nA special Valentine's day popup\, celebrating all of our habibi's and ha
 bibti's!\n\nNEW Ai POPUP ADDRESS: 530 Penn St. NE\, Washington\, DC 20002\
 n\nImmerse yourself in the diverse rhythms of Arabic\, French\, Latin\, Ho
 use\, and other global genres\, capturing the essence of Beirut's cosmopol
 itan allure right in the heart of DC!\n\nPicture a city that has endured t
 he tests of time\, our party seeks to encapsulate its resilience and vivac
 ity in the face against all odds. Amidst the turmoil and uncertainty of co
 nflict\, Beirutis have always found solace and strength in their vibrant n
 ightlife\, turning nights of darkness into moments of light and celebratio
 n.\n\nThe cosmopolitan nature of Beirut's nightlife is a tapestry woven wi
 th the threads of diverse cultures\, traditions and modern influences. It 
 is a reflection of the city's historical role as a crossroads of civilizat
 ions\, where East meets West and tradition combine seamlessly with contemp
 orary trends. Step into Beirut's nightlife\, and you'll find yourself imme
 rsed in a vibrant mosaic of sights\, sounds\, and experiences that celebra
 te the city's rich multicultural heritage.\n\nMusic: Anthony Raad &amp\; F
 arouq Murad\n\nLive Performances: Faris El Layl Entertainment\n\nSpecialit
 y Cocktails:\n\nZa’atar Paloma: Tequila\, grapefruit\, za’atar simple\
 n\nGin Basil: Gin\, Lemon\, Simple\, Basil\n\nFrench 75: Gin\, Lemon\, Sim
 ple\, Bubbles\n\nDou Dou Shot: Vodka\, Lemon\, Tabasco\, Olive\n\nDoors op
 en @ 10 PM\n\n21+\n\nNo refunds
ATTACH;FMTTYPE=image/jpeg:https://www.arabamerica.com/wp-content/uploads/2
 025/01/0AA72205-22E4-4F57-93A5-3FC2B366ED3A.jpeg
CATEGORIES:#arabic,Arab,Arab American,culture,Food,lebanese
LOCATION:530 Penn St NE\, 530 Penn St NE\, Washington\, DC\, 20002\, United
  States
GEO:38.91034;-76.996587
X-APPLE-STRUCTURED-LOCATION;VALUE=URI;X-ADDRESS=530 Penn St NE\, Washington
 \, DC\, 20002\, United States;X-APPLE-RADIUS=100;X-TITLE=530 Penn St NE:ge
 o:38.91034,-76.996587
END:VEVENT
BEGIN:VTIMEZONE
TZID:America/Detroit
X-LIC-LOCATION:America/Detroit
BEGIN:STANDARD
DTSTART:20241103T010000
TZOFFSETFROM:-0400
TZOFFSETTO:-0500
TZNAME:EST
END:STANDARD
END:VTIMEZONE
END:VCALENDAR