BEGIN:VCALENDAR
VERSION:2.0
PRODID:-//wp-events-plugin.com//7.2.3.1//EN
TZID:America/Detroit
X-WR-TIMEZONE:America/Detroit
BEGIN:VEVENT
UID:34893@arabamerica.com
DTSTART;TZID=America/Detroit:20250905T180000
DTEND;TZID=America/Detroit:20250905T233000
DTSTAMP:20250804T194917Z
URL:https://www.arabamerica.com/events/beirut-nights-party-boston/
SUMMARY:Beirut Nights Party (Boston)
DESCRIPTION:WORCESTER\, MA\n\n\n\nBeirut Nights Party (Boston)\n\nGet ready
  to experience an unforgettable night at the Beirut Nights Party in Boston
 ! Join us for a night filled with music\, dancing\, and delicious Lebanese
  cuisine. Whether you're a fan of Arabic music or simply looking for a fun
  night out\, this event is perfect for anyone looking to have a great time
 . Don't miss out on this exciting opportunity to immerse yourself in the v
 ibrant culture of Beirut right here in Boston!
ATTACH;FMTTYPE=image/jpeg:https://www.arabamerica.com/wp-content/uploads/2
 025/08/maaa.jpeg
LOCATION:2 Washington Sq\, 2 Washington Square\, Worcester\, MA\, 01604\, U
 nited States
GEO:42.261566;-71.795744
X-APPLE-STRUCTURED-LOCATION;VALUE=URI;X-ADDRESS=2 Washington Square\, Worce
 ster\, MA\, 01604\, United States;X-APPLE-RADIUS=100;X-TITLE=2 Washington 
 Sq:geo:42.261566,-71.795744
END:VEVENT
BEGIN:VTIMEZONE
TZID:America/Detroit
X-LIC-LOCATION:America/Detroit
BEGIN:DAYLIGHT
DTSTART:20250309T030000
TZOFFSETFROM:-0500
TZOFFSETTO:-0400
TZNAME:EDT
END:DAYLIGHT
END:VTIMEZONE
END:VCALENDAR