BEGIN:VCALENDAR
VERSION:2.0
PRODID:-//wp-events-plugin.com//7.2.3.1//EN
TZID:America/Detroit
X-WR-TIMEZONE:America/Detroit
BEGIN:VEVENT
UID:33661@arabamerica.com
DTSTART;TZID=America/Detroit:20241025T190000
DTEND;TZID=America/Detroit:20241025T200000
DTSTAMP:20241016T003309Z
URL:https://www.arabamerica.com/events/belly-dance-class-tea-taqsim/
SUMMARY:Belly Dance Class Tea & Taqsim
DESCRIPTION:Sip\, sway\, and savor! Join us at "Tea and Taqsim" for a uniqu
 e evening of belly dance\, culture\, and tea blends paired with Arabic mus
 ic.\n\n&nbsp\;\n\nTea and Taqsim: A Sensory Journey Through Culture and Da
 nce"\n\nJoin us for a unique evening of Mindful Belly Dance on Friday\, Oc
 tober 25th at 7:00 PM.\n\n'Tea and Taqsim' blends the soothing art of Midd
 le Eastern dance with the rich culture of Arabic music and flavors. Enjoy 
 two handcrafted tea blends\, paired with the sounds of traditional instrum
 ents: Cinnamon tea with the deep resonance of the Oud and Peppermint tea w
 ith the delicate notes of the Qanun.\n\nUnwind\, connect\, and immerse you
 rself in a cultural experience unlike any other.\n\nReserve your spot toda
 y and experience the perfect harmony of tea\, music\, and movement. Limite
 d spaces available!\n\nFor more information on your host and belly dance c
 lasses in Miami\, FL\, visit www.alexandramolina.info
ATTACH;FMTTYPE=image/jpeg:https://www.arabamerica.com/wp-content/uploads/2
 024/10/Screen-Shot-2024-10-15-at-7.34.34-PM.png
CATEGORIES:#arabic,Arab,Arab Ameircan Event,Arab
 American,Community,culture,Discussion,Food,Lecture,Music/Folk/World
LOCATION:The Peacemaker\, 8100 Southwest 81st Drive #suite 275\, Miami\, Fl
 orida\, 33143\, United States
GEO:25.693529;-80.324269
X-APPLE-STRUCTURED-LOCATION;VALUE=URI;X-ADDRESS=8100 Southwest 81st Drive #
 suite 275\, Miami\, Florida\, 33143\, United States;X-APPLE-RADIUS=100;X-T
 ITLE=The Peacemaker:geo:25.693529,-80.324269
END:VEVENT
BEGIN:VTIMEZONE
TZID:America/Detroit
X-LIC-LOCATION:America/Detroit
BEGIN:DAYLIGHT
DTSTART:20240310T030000
TZOFFSETFROM:-0500
TZOFFSETTO:-0400
TZNAME:EDT
END:DAYLIGHT
END:VTIMEZONE
END:VCALENDAR