BEGIN:VCALENDAR
VERSION:2.0
PRODID:-//wp-events-plugin.com//7.2.3.1//EN
TZID:America/Detroit
X-WR-TIMEZONE:America/Detroit
BEGIN:VEVENT
UID:31013@arabamerica.com
DTSTART;TZID=America/Detroit:20230513T173000
DTEND;TZID=America/Detroit:20230513T210000
DTSTAMP:20230510T175538Z
URL:https://www.arabamerica.com/events/belly-dance-hafla-benefit-dinner-sh
 ow/
SUMMARY:Belly Dance Hafla Benefit Dinner Show
DESCRIPTION:\n\n\n\nNiles\, IL\n5:30 Doors open\, 6:00 Show Begins\, 7:00 D
 inner\, 7:30 Live Music and Open Dance followed by the 2nd Act. Come for a
  wonderful evening\, make new friends and meetup with old ones. Sponsored 
 by Samantha Wolf Productions.\n\n\n\n\n\n\n\n\n\n
ATTACH;FMTTYPE=image/jpeg:https://www.arabamerica.com/wp-content/uploads/2
 023/05/Screen-Shot-2023-05-10-at-1.53.45-PM.png
CATEGORIES:A Benefit Dinner
LOCATION:Mango Restaurant\, 8743 North Milwaukee Avenue\, Niles\, IL\, 6071
 4\, United States
GEO:42.039635;-87.825273
X-APPLE-STRUCTURED-LOCATION;VALUE=URI;X-ADDRESS=8743 North Milwaukee Avenue
 \, Niles\, IL\, 60714\, United States;X-APPLE-RADIUS=100;X-TITLE=Mango Res
 taurant:geo:42.039635,-87.825273
END:VEVENT
BEGIN:VTIMEZONE
TZID:America/Detroit
X-LIC-LOCATION:America/Detroit
BEGIN:DAYLIGHT
DTSTART:20230312T030000
TZOFFSETFROM:-0500
TZOFFSETTO:-0400
TZNAME:EDT
END:DAYLIGHT
END:VTIMEZONE
END:VCALENDAR