BEGIN:VCALENDAR
VERSION:2.0
PRODID:-//wp-events-plugin.com//7.2.3.1//EN
TZID:America/Detroit
X-WR-TIMEZONE:America/Detroit
BEGIN:VEVENT
UID:31511@arabamerica.com
DTSTART;TZID=America/Detroit:20230813T103000
DTEND;TZID=America/Detroit:20230813T120000
DTSTAMP:20230807T144420Z
URL:https://www.arabamerica.com/events/belly-dancing/
SUMMARY:Belly Dancing
DESCRIPTION:"Workshop Description:\n\n\n\nBelly Dancing with Jaida/ Health 
 &amp\; Spiritual benefits\n\nHealth Benefits\n\nBuild core strength\, impr
 ove posture\, aids in digestion\, increases balance\, increases circulatio
 n\, helps relieve stress\, excellent brain exercise for focus\, memory\, c
 reativity and coordination. The fluidity of many movements incorporated ma
 y also benefit osteoporosis\, arthritis\, back and circulatory issues.\n\n
 Spiritual Benefits\n\nBelly Dance unites women on a quest to understand th
 e power of sensuality and its physical and spiritual implications.\n\nBell
 ydance goes even further by also integrating the liberating notion that th
 e female and her sexuality are deeply healthy\, powerful and significant.\
 n\nSuddenly the body\, no matter its shape or size becomes cherished in pr
 eparation for connection. It is adorned with beautiful costuming that high
 lights the dancer’s unique and feminine design. It moves with confidence
  and grace and says..\n\nI am divine.\n\nInstructor Bio(s):\n\nJaida is a 
 New York based dancer who began her dance journey at Serena’s Studio. Sh
 e performed in many of Serena’s off Broadway productions as well as the 
 famed Egyptian Gardens Supper Club in Times Square.\n\nJaida’s past perf
 ormances include performing for the Saudi Royal Family\, the United Nation
 s Arab Gala\, and performing with the internationally acclaimed New York A
 rabic Orchestra. Jaida has also been called upon to perform for numerous f
 oreign dignitaries\, diplomats\, and prime ministers.\n\nPrivate events in
 clude celebrations with superstars Jay Z\, Beyoncé\, Mary J Blige\, Anita
  Baker\, Sean Puffy Combs\, Nas\, and Lady Gaga. Last but not least she wa
 s a featured dancer on the Nile River in Cairo Egypt along with a traditio
 nal Tanoura Show.\n\nShe’s had the privilege of studying extensively som
 e of the world’s most prominent dance legends including Yousry Sharif.\n
 \nJaida continues to grace the stage both nationally and internationally.\
 n\nFrom the U.S.\, Europe\, to Asia she has taught countless wellness work
 shops\, judged competitions and remains consistently in demand as both a d
 ancer and teacher.\n\nJaida currently teaches weekly Virtual classes and a
 lso live classes in Brooklyn NY.\n\n&nbsp\;\n\n\n\n\n\nSpecial Workshops +
  Events!\nCumbe offers a lot more than our regular classes! We provide spe
 cial workshops and social events that anyone can join!\n\nCheck out the li
 nk below for to see what's coming up!\n\nhttps://cumbedance.org/workshops\
 n\n\n\n\n\nSupport Cumbe!\nIf you are interested in finding ways to suppor
 t Cumbe\, look no further!\n\nCheck out our link below to donate today!\n\
 nhttps://cumbedance.org/donate"\n\n\n
ATTACH;FMTTYPE=image/jpeg:https://www.arabamerica.com/wp-content/uploads/2
 023/08/https___cdn.evbuc_.com_images_470848289_257047847140_1_original.jpe
 g
CATEGORIES:Belly Dancing,Belly Dancing
 Class,Community,culture,Dancing,Discussion
LOCATION:Cumbe: Center for African and Diaspora Dance\, 1368 Fulton Street\
 , Brooklyn\, NY\, 11216\, United States
GEO:40.679949;-73.946001
X-APPLE-STRUCTURED-LOCATION;VALUE=URI;X-ADDRESS=1368 Fulton Street\, Brookl
 yn\, NY\, 11216\, United States;X-APPLE-RADIUS=100;X-TITLE=Cumbe: Center f
 or African and Diaspora Dance:geo:40.679949,-73.946001
END:VEVENT
BEGIN:VTIMEZONE
TZID:America/Detroit
X-LIC-LOCATION:America/Detroit
BEGIN:DAYLIGHT
DTSTART:20230312T030000
TZOFFSETFROM:-0500
TZOFFSETTO:-0400
TZNAME:EDT
END:DAYLIGHT
END:VTIMEZONE
END:VCALENDAR