BEGIN:VCALENDAR
VERSION:2.0
PRODID:-//wp-events-plugin.com//7.2.3.1//EN
TZID:America/Detroit
X-WR-TIMEZONE:America/Detroit
BEGIN:VEVENT
UID:32294@arabamerica.com
DTSTART;TZID=America/Detroit:20240223T183000
DTEND;TZID=America/Detroit:20240223T230000
DTSTAMP:20240220T205623Z
URL:https://www.arabamerica.com/events/benefit-concert-for-palestine-w-bla
 ck-belt-eagle-scout-mariee-siou-more/
SUMMARY:Benefit Concert for Palestine w/ Black Belt Eagle Scout\, Mariee Si
 ou & more
DESCRIPTION:\n\nBenefit Concert for Palestine with Black Belt Eagle Scout\,
  Mariee Siou\, Galen Hefferman &amp\; Jahnavi Veronica\, Rybree Tree + Spe
 cial guests.\n\nThis is an in-person\, solidarity event\, organized by non
 -Palestinians\, being held at Leaven Community Center in Portland\, OR Feb
  23\, 2024.\n\nJoin us for an incredible evening of music and solidarity a
 s we come together to support local Palestinians\, whose families are flee
 ing Gaza. 100% of the proceeds gathered will be donated to the Gofund Me t
 hese families have organized.\n\nPlease notice that there is the option of
  a "Donation" ticket price for people who can give larger offerings. We ar
 e suggesting $20-200\, with there being no maximum donation limit. Thank y
 ou for giving what you can &lt\;3.\n\n~~~~~~~~~~~~~~~~~~~~~~~~~~~~~~~~~~~~
 ~~~~~~~~~~~~~~~~~~~~~~~~~~~~~~~\n\nFor the show\, prepare to be taken away
  by the haunting\, beautiful solo set by acclaimed Swinomish/Iñupiaq arti
 st Black Belt Eagle Scout and transported by the medicinal songs of Mariee
  Siou. Also in store for this special evening is the local duo Galen Heffe
 rman &amp\; Jahnavi Veronica who sing songs that ring as a balm for challe
 nging times\, and the heart-filled tunes of musician and activist Rybree T
 ree\, bringing their important\, sonic message.\n\nAlso at the event will 
 be a silent auction with some lovely goodies to make bids on\, be sure to 
 check it out!\n\nAll artists support a PERMANENT CEASEFIRE NOW in Gaza and
  an end to the occupation in Palestine.\n\nBy attending this special eveni
 ng\, you'll experience the healing offerings of this special lineup and co
 ntribute to an important local and global cause. Together\, we can show ou
 r support for Palestine\, and local Palestinians in our community\, and al
 so bring together our prayers that Palestine WILL BE FREE.\n\nDon't miss o
 ut on this wonderful opportunity to celebrate the power of collective soli
 darity while putting some of our resources together where it counts &lt\;3
 !\n\nSee you there!
ATTACH;FMTTYPE=image/jpeg:https://www.arabamerica.com/wp-content/uploads/2
 024/02/Screen-Shot-2024-02-20-at-8.42.46-AM.png
CATEGORIES:Arab American,Community,culture
END:VEVENT
BEGIN:VTIMEZONE
TZID:America/Detroit
X-LIC-LOCATION:America/Detroit
BEGIN:STANDARD
DTSTART:20231105T010000
TZOFFSETFROM:-0400
TZOFFSETTO:-0500
TZNAME:EST
END:STANDARD
END:VTIMEZONE
END:VCALENDAR