BEGIN:VCALENDAR
VERSION:2.0
PRODID:-//wp-events-plugin.com//7.2.3.1//EN
TZID:America/Detroit
X-WR-TIMEZONE:America/Detroit
BEGIN:VEVENT
UID:33913@arabamerica.com
DTSTART;TZID=America/Detroit:20250126T170000
DTEND;TZID=America/Detroit:20250126T210000
DTSTAMP:20250108T052304Z
URL:https://www.arabamerica.com/events/benefit-dinner-for-gaza-5/
SUMMARY:Benefit Dinner for Gaza
DESCRIPTION:HOUSTON\, TX\n\n&nbsp\;\n\nJoin PYM Houston for a memorable nig
 ht on Sunday\, January 26th at our Ta'ziz al-Sumud fundraiser dinner for G
 aza at the Arab American Cultural Center.\n\nAs the Palestinian and Arab d
 iaspora\, and supporters of Palestine\, we have the honor and duty to sust
 ain and nurture the sumud (steadfastness) of our people. This event is par
 t of the International Fundraiser to raise $1 million for the relief effor
 ts of the Middle Eastern Children Alliance who provide shelter\, food\, cl
 ean water\, medical aid\, psychological care\, and children's programming 
 in Gaza.\n\nWe will gather as a community for cultural performances\, an a
 rt auction\, children activities\, and more. Whether you can attend\, pled
 ge proceeds\, or spread the word of the fundraiser\, each and every one of
  us plays a role in strengthening the resilience of the Palestinian people
  in the face of genocide.\n\n&#x1f4c5\; Sunday\, January 26\, 2025\n\n&#x2
 3f0\; 5:00 PM - 9:00 PM\n\n&#x1f4cd\;Arab American Cultural Center - 10555
  Stancliff Rd\n\n&#x1f58b\;&#xfe0f\; Make your business a sponsor to our f
 undraising efforts\n\nDress Code: Business Casual or Cultural is recommend
 ed
ATTACH;FMTTYPE=image/jpeg:https://www.arabamerica.com/wp-content/uploads/2
 025/01/eerwer.png
LOCATION:Arab American Cultural Community\, 10555 Stancliff Road\, Houston\
 , TX\, United States
GEO:29.656431;-95.566062
X-APPLE-STRUCTURED-LOCATION;VALUE=URI;X-ADDRESS=10555 Stancliff Road\, Hous
 ton\, TX\, United States;X-APPLE-RADIUS=100;X-TITLE=Arab American Cultural
  Community:geo:29.656431,-95.566062
END:VEVENT
BEGIN:VTIMEZONE
TZID:America/Detroit
X-LIC-LOCATION:America/Detroit
BEGIN:STANDARD
DTSTART:20241103T010000
TZOFFSETFROM:-0400
TZOFFSETTO:-0500
TZNAME:EST
END:STANDARD
END:VTIMEZONE
END:VCALENDAR