BEGIN:VCALENDAR
VERSION:2.0
PRODID:-//wp-events-plugin.com//7.2.3.1//EN
TZID:America/Detroit
X-WR-TIMEZONE:America/Detroit
BEGIN:VEVENT
UID:33278@arabamerica.com
DTSTART;TZID=America/Detroit:20240828T200000
DTEND;TZID=America/Detroit:20240828T230000
DTSTAMP:20240730T171753Z
URL:https://www.arabamerica.com/events/benefit-show-for-palestine-w-oddyss
 eys-carter-ward-and-persian-cowboy/
SUMMARY:Benefit Show for Palestine w/ Oddysseys\, Carter Ward and Persian C
 owboy
DESCRIPTION:CHICAGO\, IL\n\nBenefit Show for Palestine w/ Oddysseys\, Carte
 r Ward\, and Persian Cowboy\nBenefit Show for Palestine\n\nCome join us fo
 r a night of music at our Benefit Show for Palestine! Performances by Oddy
 sseys\, Carter Ward and Persian Cowboy. Let's come together to raise funds
  for Pious Projects\, a nonprofit in Illinois with workers currently in Pa
 lestine spreading food and resources to the people of Palestine. Your pres
 ence will make a difference!\n\nTickets can only be bought at door and are
  $15. This is an all ages show.\n\nDate: Wednesday August 28th 2024\n\nTim
 e: Doors at 7pm\, show at 8pm\n\nLocation: Fallen Log\, 2554 W Diversey Av
 enue in Chicago\, IL
ATTACH;FMTTYPE=image/jpeg:https://www.arabamerica.com/wp-content/uploads/2
 024/07/temp-65.jpg
LOCATION:2554 W Diversey Ave\, 2554 West Diversey Ave\, Chicago\, Illinois\
 , 60647\, United States
GEO:41.932472;-87.692593
X-APPLE-STRUCTURED-LOCATION;VALUE=URI;X-ADDRESS=2554 West Diversey Ave\, Ch
 icago\, Illinois\, 60647\, United States;X-APPLE-RADIUS=100;X-TITLE=2554 W
  Diversey Ave:geo:41.932472,-87.692593
END:VEVENT
BEGIN:VTIMEZONE
TZID:America/Detroit
X-LIC-LOCATION:America/Detroit
BEGIN:DAYLIGHT
DTSTART:20240310T030000
TZOFFSETFROM:-0500
TZOFFSETTO:-0400
TZNAME:EDT
END:DAYLIGHT
END:VTIMEZONE
END:VCALENDAR