BEGIN:VCALENDAR
VERSION:2.0
PRODID:-//wp-events-plugin.com//7.2.3.1//EN
TZID:America/Detroit
X-WR-TIMEZONE:America/Detroit
BEGIN:VEVENT
UID:35414@arabamerica.com
DTSTART;TZID=America/Detroit:20251123T170000
DTEND;TZID=America/Detroit:20251123T200000
DTSTAMP:20251117T214935Z
URL:https://www.arabamerica.com/events/benefit-show-market-for-palestine-f
 t-plastic-baby-jesus-clearjaw-more/
SUMMARY:Benefit Show & Market for Palestine ft. Plastic Baby Jesus\, Clearj
 aw + more
DESCRIPTION:\n\nOverview\n\n\n\n\n\nGaza Thrift ★ Under the Sun Collectiv
 e collab on a benefit show &amp\; vendor market &amp\; coat drive\n\n\nPer
 formers\n\n\nHeadliners\n\n 	Plastic Baby Jesus\n\nMore Performers\n\n 	Cl
 earjaw\n 	Avalena\n 	Disrespect Boyz\n 	OBOY!\n\n\n\n\n\n\n
LOCATION:The Broadway\, 1272 Broadway\, Brooklyn\, NY\, 11221\, United Stat
 es
GEO:40.691047;-73.924854
X-APPLE-STRUCTURED-LOCATION;VALUE=URI;X-ADDRESS=1272 Broadway\, Brooklyn\, 
 NY\, 11221\, United States;X-APPLE-RADIUS=100;X-TITLE=The Broadway:geo:40.
 691047,-73.924854
END:VEVENT
BEGIN:VTIMEZONE
TZID:America/Detroit
X-LIC-LOCATION:America/Detroit
BEGIN:STANDARD
DTSTART:20251102T010000
TZOFFSETFROM:-0400
TZOFFSETTO:-0500
TZNAME:EST
END:STANDARD
END:VTIMEZONE
END:VCALENDAR