BEGIN:VCALENDAR
VERSION:2.0
PRODID:-//wp-events-plugin.com//7.2.3.1//EN
TZID:America/Detroit
X-WR-TIMEZONE:America/Detroit
BEGIN:VEVENT
UID:33175@arabamerica.com
DTSTART;TZID=America/Detroit:20240720T083000
DTEND;TZID=America/Detroit:20240720T120000
DTSTAMP:20240708T161844Z
URL:https://www.arabamerica.com/events/bike-ride-for-gaza/
SUMMARY:Bike Ride for Gaza
DESCRIPTION:CULVER CITY\, CA\n\n\n\n\n\n\n\n\n\nBike Ride for Gaza\n\nCome 
 join a family friendly 8-mile bike ride along the Ballona Creek trail in s
 olidarity for Gaza and Palestine. We'll meet at the picnic tables at Syd K
 ronenthal park and then head to Playa Del Rey beach. Bring flags\, signs\,
  and positive spirits. This ride will be raising funds for the Palestinian
  Children’s Relief Fund. Please contribute via this link (https://tinyur
 l.com/ride4pal) if you can but a donation is not required to join the ride
 .\n\n\n\n\n\n\n\n\n\n\n\n\n\n\n\n
ATTACH;FMTTYPE=image/jpeg:https://www.arabamerica.com/wp-content/uploads/2
 024/07/temp-16.jpg
LOCATION:Syd Kronenthal Park\, 3459 McManus Avenue\, Culver City\, Californ
 ia\, 90232\, United States
GEO:34.028091;-118.377287
X-APPLE-STRUCTURED-LOCATION;VALUE=URI;X-ADDRESS=3459 McManus Avenue\, Culve
 r City\, California\, 90232\, United States;X-APPLE-RADIUS=100;X-TITLE=Syd
  Kronenthal Park:geo:34.028091,-118.377287
END:VEVENT
BEGIN:VTIMEZONE
TZID:America/Detroit
X-LIC-LOCATION:America/Detroit
BEGIN:DAYLIGHT
DTSTART:20240310T030000
TZOFFSETFROM:-0500
TZOFFSETTO:-0400
TZNAME:EDT
END:DAYLIGHT
END:VTIMEZONE
END:VCALENDAR