BEGIN:VCALENDAR
VERSION:2.0
PRODID:-//wp-events-plugin.com//7.2.3.1//EN
TZID:America/Detroit
X-WR-TIMEZONE:America/Detroit
BEGIN:VEVENT
UID:31479@arabamerica.com
DTSTART;TZID=America/Detroit:20230801T100000
DTEND;TZID=America/Detroit:20230830T180000
DTSTAMP:20230801T193225Z
URL:https://www.arabamerica.com/events/birminghams-early-middle-eastern-co
 mmunity-celebrating-life-and-liturgy/
SUMMARY:Birmingham's Early Middle Eastern Community: Celebrating Life and L
 iturgy
DESCRIPTION:BIRMINGHAM\, AL\n\nThe history of Birmingham’s first Middle E
 astern community began with the arrival in 1910 of Christian immigrants fr
 om the areas known today as Syria and Lebanon. Birmingham’s Early Middle
  Eastern Community: Celebrating Life and Liturgy\, created in collaboratio
 n with the St. Elias and St. George congregations\, features artifacts hig
 hlighting the religious\, economic\, and social lives of the community.\n\
 nBirmingham’s Early Middle Eastern Community continues our exploration o
 f the people and cultures who have made Birmingham what it is today. This 
 exhibit is sponsored by Alabama Humanities Alliance\, Zyne Family Foundati
 on\, Benjamin &amp\; Francis David Foundation with additional support prov
 ided by: Birmingham Coca-Cola Bottling Co.\, Protective\, Vulcan Materials
 \, and Regions.
ATTACH;FMTTYPE=image/jpeg:https://www.arabamerica.com/wp-content/uploads/2
 023/08/event-featured-birminghams-early-middle-eastern-community-celebrati
 ng-life-and-liturgy-1674749376.png
CATEGORIES:Arab American,Community,culture,Discussion,Lecture
LOCATION:Vulcan Park and Museum\, 1701 Valley View Drive\, Birmingham\, AL\
 , 35209\, United States
GEO:33.491749;-86.795464
X-APPLE-STRUCTURED-LOCATION;VALUE=URI;X-ADDRESS=1701 Valley View Drive\, Bi
 rmingham\, AL\, 35209\, United States;X-APPLE-RADIUS=100;X-TITLE=Vulcan Pa
 rk and Museum:geo:33.491749,-86.795464
END:VEVENT
BEGIN:VTIMEZONE
TZID:America/Detroit
X-LIC-LOCATION:America/Detroit
BEGIN:DAYLIGHT
DTSTART:20230312T030000
TZOFFSETFROM:-0500
TZOFFSETTO:-0400
TZNAME:EDT
END:DAYLIGHT
END:VTIMEZONE
END:VCALENDAR