BEGIN:VCALENDAR
VERSION:2.0
PRODID:-//wp-events-plugin.com//7.2.3.1//EN
TZID:America/Detroit
X-WR-TIMEZONE:America/Detroit
BEGIN:VEVENT
UID:31195@arabamerica.com
DTSTART;TZID=America/Detroit:20230624T110000
DTEND;TZID=America/Detroit:20230624T130000
DTSTAMP:20230605T151436Z
URL:https://www.arabamerica.com/events/birzeit-society-palestinian-cooking
 -class-wara-dawali/
SUMMARY:Birzeit Society Palestinian Cooking Class\; Wara Dawali
DESCRIPTION:Cleveland\, OH\nPlease join Birzeit Society for a cooking class
 . We will teach you how to make the mouth watering dish Wara Dawali\, or r
 olled grape leaves\, from scratch. This dish uses simple ingredients and b
 ig flavor to create a belly warming dish that is sure to impress at your n
 ext dinner party. Ditch the canned stuff and let us show you how to make a
  dish you'll want to create over and over again.\n\nThe primary ingredient
 s for this dish are rice\, beef and grape leaves. We can show you how to m
 ake a vegetarian version as well if you would like.\n\nThis class will tak
 e place in a home kitchen. We'll show you how to make the stuffing and the
 n how to roll grape leaves. We'll all roll the grape leaves together. We'l
 l show you how they're placed in the pot to boil and they'll all boil whil
 e we share with you a bit about Palestinian history and culture. We'll als
 o share information about great side dishes to serve with your grape leave
 s dish.\n\nOnce the food is done we'll get to try the grape leaves and eac
 h of you can go home with a Tupperware to eat right away or freeze for lat
 er.\n\nEveryone is welcome at our event\, including children. If you have 
 any accessibility needs please contact the organizer ahead of time (nasers
 c@gmail.com)\, we would love for you to join us!\n\n100% of proceeds from 
 this event will go to our non-profit Birzeit Society. Birzeit Society's mi
 ssion is to perpetuate the strong ties among the people of Birzeit\, their
  communities around the world and with their home town\, Birzeit. It repre
 sents the collective interest of Birzeities in the Diaspora\, and promotes
  and safeguards the collective betterment of the Birzeiti communities arou
 nd the world and the future of Birzeit. Our work directly resists the eras
 ure of the Palestinian people and we deeply appreciate your participation 
 and support. You can learn more about us here\;\n\nhttps://www.birzeitsoci
 ety.org/
ATTACH;FMTTYPE=image/jpeg:https://www.arabamerica.com/wp-content/uploads/2
 023/06/Screen-Shot-2023-06-05-at-8.12.56-AM.png
CATEGORIES:Arab cooking class
LOCATION:1443 W 77th St\, 1443 West 77th Street\, Cleveland\, OH\, 44102\, 
 United States
GEO:41.480908;-81.73731
X-APPLE-STRUCTURED-LOCATION;VALUE=URI;X-ADDRESS=1443 West 77th Street\, Cle
 veland\, OH\, 44102\, United States;X-APPLE-RADIUS=100;X-TITLE=1443 W 77th
  St:geo:41.480908,-81.73731
END:VEVENT
BEGIN:VTIMEZONE
TZID:America/Detroit
X-LIC-LOCATION:America/Detroit
BEGIN:DAYLIGHT
DTSTART:20230312T030000
TZOFFSETFROM:-0500
TZOFFSETTO:-0400
TZNAME:EDT
END:DAYLIGHT
END:VTIMEZONE
END:VCALENDAR