BEGIN:VCALENDAR
VERSION:2.0
PRODID:-//wp-events-plugin.com//7.2.3.1//EN
TZID:America/Detroit
X-WR-TIMEZONE:America/Detroit
BEGIN:VEVENT
UID:33268@arabamerica.com
DTSTART;TZID=America/Detroit:20240728T150000
DTEND;TZID=America/Detroit:20240728T170000
DTSTAMP:20240724T223622Z
URL:https://www.arabamerica.com/events/bob-bing-movie-series-road-to-moroc
 co-3/
SUMMARY:BOB & BING Movie Series: Road to Morocco
DESCRIPTION:PALM SPRINGS\, CA\n\n\n\nStarving vagabond Jeff (Bing Crosby) s
 ells best friend Orville (Bob Hope) into slavery in a Moroccan marketplace
  to buy food. Searching for his partner after an attack of conscience\, Je
 ff discovers that Orville is now engaged to the gorgeous Princess Shalmar 
 (Dorothy Lamour)\, whose astrologers have told her that her first husband 
 will die violently\, leaving her free to marry her beloved Sheik Mullay Ka
 sim (Anthony Quinn). But when the princess falls for Jeff\, things get com
 plicated.\n\nDirector: David Butler\n\n\n\n\n\n\n\n\n\n
ATTACH;FMTTYPE=image/jpeg:https://www.arabamerica.com/wp-content/uploads/2
 024/07/Screenshot-2024-07-24-153257.png
LOCATION:Palm Springs Cultural Center\, 2300 East Baristo Road\, Palm Sprin
 gs\, CA\,  92262\, United States
GEO:33.819976;-116.521179
X-APPLE-STRUCTURED-LOCATION;VALUE=URI;X-ADDRESS=2300 East Baristo Road\, Pa
 lm Springs\, CA\,  92262\, United States;X-APPLE-RADIUS=100;X-TITLE=Palm S
 prings Cultural Center:geo:33.819976,-116.521179
END:VEVENT
BEGIN:VTIMEZONE
TZID:America/Detroit
X-LIC-LOCATION:America/Detroit
BEGIN:DAYLIGHT
DTSTART:20240310T030000
TZOFFSETFROM:-0500
TZOFFSETTO:-0400
TZNAME:EDT
END:DAYLIGHT
END:VTIMEZONE
END:VCALENDAR