BEGIN:VCALENDAR
VERSION:2.0
PRODID:-//wp-events-plugin.com//7.2.3.1//EN
TZID:America/Detroit
X-WR-TIMEZONE:America/Detroit
BEGIN:VEVENT
UID:35070@arabamerica.com
DTSTART;TZID=America/Detroit:20250922T173000
DTEND;TZID=America/Detroit:20250922T190000
DTSTAMP:20250903T043138Z
URL:https://www.arabamerica.com/events/body-doubles-gender-sexuality-and-t
 he-premodern-1001-nights/
SUMMARY:Body Doubles: Gender\, Sexuality\, and the Premodern 1001 Nights
DESCRIPTION:LOCATION TBD\n\nThis talk will explore what we can learn about 
 gender and sexuality in the 1001 Nights if we focus on the pre-1700 manus
 cript tradition. One of the key arguments to come out of this research is 
 that gender difference is de-emphasized in erotic episodes. This can be se
 en both in written descriptions of embodied beauty and in the images inclu
 ded in a few of the manuscripts under study. Recognizing this “erotics o
 f sameness” makes a number of fresh readings of the Nights possible\, 
 including those that center homoeroticism and gender transformation.\n\n&n
 bsp\;\n\nZayde Antrim is Charles A. Dana Research Professor of History an
 d International Studies and Acting Director of the Women\, Gender\, and Se
 xuality Program at Trinity College (Hartford\, CT). She is the author of 
 Routes and Realms: The Power of Place in the Early Islamic World (Oxford 
 University Press\, 2012) and Mapping the Middle East (Reaktion Books\, 2
 018)\, as well as co-editor of Al-ʿUsur al-Wusta:
ATTACH;FMTTYPE=image/jpeg:https://www.arabamerica.com/wp-content/uploads/2
 025/09/Screen-Shot-2025-09-03-at-12.29.53-AM.png
END:VEVENT
BEGIN:VTIMEZONE
TZID:America/Detroit
X-LIC-LOCATION:America/Detroit
BEGIN:DAYLIGHT
DTSTART:20250309T030000
TZOFFSETFROM:-0500
TZOFFSETTO:-0400
TZNAME:EDT
END:DAYLIGHT
END:VTIMEZONE
END:VCALENDAR