BEGIN:VCALENDAR
VERSION:2.0
PRODID:-//wp-events-plugin.com//7.2.3.1//EN
TZID:America/Detroit
X-WR-TIMEZONE:America/Detroit
BEGIN:VEVENT
UID:34691@arabamerica.com
DTSTART;TZID=America/Detroit:20250719T210000
DTEND;TZID=America/Detroit:20250720T020000
DTSTAMP:20250702T135057Z
URL:https://www.arabamerica.com/events/bollywood-habibi-arabian-nights-the
 me-bollywood-party-on-july-19-madera/
SUMMARY:BOLLYWOOD HABIBI: Arabian Nights Theme Bollywood Party on July 19 @
  Madera!
DESCRIPTION:LOS ANGELES\, CA\n\n\n\n\n\n\n\n\n\n\n\nRadio5 Events presents.
 ..LA's Largest Monthly Bollywood Night\n\n&nbsp\;\n★ Bollywood Habibi: A
 n Exotic Arabian Nights Theme Party! ★\n\nDesert Nights Are Calling\n\nH
 ABIBI! After selling out our Bollywood nights in 2025\, this month we take
  you on a journey to the exotic Deserts of Arabia....Join us for a brand n
 ew theme experience at the biggest Bollywood night in Los Angeles with an 
 Arabian twist at Hollywood Celebrity hot-spot\, MADERA. Get ready as we ta
 keover this upscale Bohemian space. You do not want to miss out on this!\n
 \n&nbsp\;\n\nWHAT TO EXPECT:\n\n 	Luxerious Arabic-themed decor\n 	Themed 
 Arabian snake dancers\n 	Live Drums + much more!\n\n&nbsp\;\n\nMUSIC: Danc
 e to chart-topping hits from the most popular Bollywood Dance Music from t
 he 90s-2000s\, latest Desi hits &amp\; Arabic inspired Indian songs. From 
 Salman Khans Arabic fusion hit "Mashallah" to "Bora Bora" - Our All-Star B
 ollywood DJ's will create an unforgettable atmosphere that will keep you d
 ancing til 2am.\n\n&nbsp\;\n\nSTRICT DRESS CODE: Black\, Gold or Yellow\n\
 nLadies\, unleash your inner Cleopatra at Bollywood Habibi! Embrace Indo-w
 estern glamour with dazzling gold headwear\, bedazzled accents\, or upscal
 e skirts/dresses. Dress to be remembered.\n\n&nbsp\;\n\n 	Men: Collared fo
 rmal shirts or upscale wear\n 	Women: Dresses or elegant/chic fashion/Indo
 -western\n 	No gym t-shirts\, gym sneakers\, sportswear\, or baggy clothin
 g will be allowed\n\n\n\n\n\n\n\n\n\n\n\n\n\nEntry Information\n\nDoors op
 en at 9pm (Enjoy happy hour drink specials from 9pm-10pm)\n\nJuly birthday
 's complimentary all night (show valid ID at door)\n\nBottle Service: Text
  us for packages 323-205-5594\n\nAge: 21+\n\nNo large groups of males allo
 wed\n\n****************************************************\n\nBollywood H
 abibi Highlights:\n\n 	All-Star Bollywood DJ's\n 	Arabian Nights Theme Par
 ty &amp\; Photo-ops\n 	State of the Art Sound and LED Lighting Systems\n 	
 Upscale Venue\n 	Red Carpet Affair\n 	Capacity Turnout\n\nAll Content @ in
 stagram.com/radio5events\n\n**********************************************
 ************\n\n\n\n\n\n\n\n\n\n\n\n\n\n\n\n\n\n\n\n\n\n\n\n\n\n\n\n\n\n\n
 \n\n
ATTACH;FMTTYPE=image/jpeg:https://www.arabamerica.com/wp-content/uploads/2
 025/07/bb.jpg
LOCATION:Madera\, 1835 N Cahuenga Blvd\, Los Angeles\, California\, 90028\,
  United States
GEO:34.104944;-118.330546
X-APPLE-STRUCTURED-LOCATION;VALUE=URI;X-ADDRESS=1835 N Cahuenga Blvd\, Los 
 Angeles\, California\, 90028\, United States;X-APPLE-RADIUS=100;X-TITLE=Ma
 dera:geo:34.104944,-118.330546
END:VEVENT
BEGIN:VTIMEZONE
TZID:America/Detroit
X-LIC-LOCATION:America/Detroit
BEGIN:DAYLIGHT
DTSTART:20250309T030000
TZOFFSETFROM:-0500
TZOFFSETTO:-0400
TZNAME:EDT
END:DAYLIGHT
END:VTIMEZONE
END:VCALENDAR