BEGIN:VCALENDAR
VERSION:2.0
PRODID:-//wp-events-plugin.com//7.2.3.1//EN
TZID:America/Detroit
X-WR-TIMEZONE:America/Detroit
BEGIN:VEVENT
UID:33878@arabamerica.com
DTSTART;TZID=America/Detroit:20241228T140000
DTEND;TZID=America/Detroit:20241228T140000
DTSTAMP:20241224T232812Z
URL:https://www.arabamerica.com/events/bonfire-putluck/
SUMMARY:Bonfire & Potluck
DESCRIPTION:San Diego\, CA\n\n&nbsp\;\n\nJoin the PAWA hike4Palestine and P
 YM San Diego for a community potluck and bonfire. Don't forget to bring yo
 ur keffiyeh\, Palestinian flags and water!
ATTACH;FMTTYPE=image/jpeg:https://www.arabamerica.com/wp-content/uploads/2
 024/12/PHOTO-2024-12-23-21-27-06.jpg
LOCATION:De Anza Cove (North Mission Bay)\, 3000 North Mission Bay Drive\, 
 San Diego\, CA\, United States
GEO:32.797405;-117.214139
X-APPLE-STRUCTURED-LOCATION;VALUE=URI;X-ADDRESS=3000 North Mission Bay Driv
 e\, San Diego\, CA\, United States;X-APPLE-RADIUS=100;X-TITLE=De Anza Cove
  (North Mission Bay):geo:32.797405,-117.214139
END:VEVENT
BEGIN:VTIMEZONE
TZID:America/Detroit
X-LIC-LOCATION:America/Detroit
BEGIN:STANDARD
DTSTART:20241103T010000
TZOFFSETFROM:-0400
TZOFFSETTO:-0500
TZNAME:EST
END:STANDARD
END:VTIMEZONE
END:VCALENDAR