BEGIN:VCALENDAR
VERSION:2.0
PRODID:-//wp-events-plugin.com//7.2.3.1//EN
TZID:America/Detroit
X-WR-TIMEZONE:America/Detroit
BEGIN:VEVENT
UID:36203@arabamerica.com
DTSTART;TZID=America/Detroit:20260514T183000
DTEND;TZID=America/Detroit:20260514T200000
DTSTAMP:20260420T181608Z
URL:https://www.arabamerica.com/events/book-discussion-of-omar-el-akkads-b
 reakup-letter-to-the-west/
SUMMARY:Book Discussion of Omar El Akkad’s Breakup Letter to the West
DESCRIPTION:SAN DIEGO\, CA\n\n&nbsp\;\n\n\n\nJoin a vital talk on the shift
  in the West's moral authority &amp\; the book "One Day\, Everyone Will Ha
 ve Always Been Against This."\n\n\n\n\n\n\nTwo of our social justice group
 s—the Palestine Israel Justice Team and the Racialized Identities Awa
 reness Book Group—are coming together for a deep-dive discussion into on
 e of the most vital books of the year: One Day\, Everyone Will Have Alway
 s Been Against This by award-winning novelist and journalist Omar El Akk
 ad.\n\nhttps://www.eventbrite.com/e/book-discussion-of-omar-el-akkads-brea
 kup-letter-to-the-west-tickets-1987570707490?aff=ebdssbdestsearch\n\n\n
ATTACH;FMTTYPE=image/jpeg:https://www.arabamerica.com/wp-content/uploads/2
 026/04/image-22.webp
LOCATION:First Unitarian Universalist Church of San Diego - Hillcrest\, 298
  West Arbor Drive\, San Diego\, CA\, 92103\, United States
GEO:32.753776;-117.166192
X-APPLE-STRUCTURED-LOCATION;VALUE=URI;X-ADDRESS=298 West Arbor Drive\, San 
 Diego\, CA\, 92103\, United States;X-APPLE-RADIUS=100;X-TITLE=First Unitar
 ian Universalist Church of San Diego - Hillcrest:geo:32.753776,-117.166192
END:VEVENT
BEGIN:VTIMEZONE
TZID:America/Detroit
X-LIC-LOCATION:America/Detroit
BEGIN:DAYLIGHT
DTSTART:20260308T030000
TZOFFSETFROM:-0500
TZOFFSETTO:-0400
TZNAME:EDT
END:DAYLIGHT
END:VTIMEZONE
END:VCALENDAR