BEGIN:VCALENDAR
VERSION:2.0
PRODID:-//wp-events-plugin.com//7.2.3.1//EN
TZID:America/Detroit
X-WR-TIMEZONE:America/Detroit
BEGIN:VEVENT
UID:35779@arabamerica.com
DTSTART;TZID=America/Detroit:20260221T170000
DTEND;TZID=America/Detroit:20260221T200000
DTSTAMP:20260128T013838Z
URL:https://www.arabamerica.com/events/born-into-hope-a-special-iftar-for-
 moms-and-babies/
SUMMARY:Born Into Hope: A Special Iftar for Moms and Babies
DESCRIPTION:Overview\n\n\n\n\nJoin us for special iftar supporting lifesavi
 ng care for mothers and newborns worldwide.\n\n\n\n\n\n\nThis Ramadan\, we
  invite you to a meaningful evening of reflection\, community\, and action
 \, hosted by Every Pregnancy and Humaniti International. We will bring tog
 ether community members\, advocates\, medical professionals\, and philanth
 ropists to support mothers and newborns in the places where care is needed
  most. Come meet\, for the first time in DC\, Miss Palestine\, Nadeen Ayou
 b\, as well as Tamanna Roashan and Congressman André Carson.\n\nEvery Pre
 gnancy is a global coalition working with more than 50 trusted frontline p
 artners across 20+ countries to make pregnancy and childbirth safer—from
  Gaza\, Sudan\, Syria\, Yemen\, and Pakistan to communities here in the Un
 ited States. Together\, we turn generosity into lifesaving care by strengt
 hening health systems\, supporting frontline providers\, and ensuring moth
 ers and babies receive the care they deserve.\n\nThis special Ramadan gath
 ering will include:\n\nKeynote speeches from Miss Palestine\, Nadeen Ayoub
 \, Tamanna Roashan\, and Congressman André Carson.\n\nThe presentation of
  the Champion for Maternal and Newborn Health Award.\n\nStories of real im
 pact from partners delivering care on the frontlines.\n\nTogether\, we can
  make every pregnancy safe—everywhere.\n\n\n\n
ATTACH;FMTTYPE=image/jpeg:https://www.arabamerica.com/wp-content/uploads/2
 026/01/image-13.webp
LOCATION:Yours Truly DC Hotel - Vignette Collection by IHG\, 1143 New Hamps
 hire Avenue Northwest\, Washington\, DC\, 20037\, United States
GEO:38.904874;-77.047668
X-APPLE-STRUCTURED-LOCATION;VALUE=URI;X-ADDRESS=1143 New Hampshire Avenue N
 orthwest\, Washington\, DC\, 20037\, United States;X-APPLE-RADIUS=100;X-TI
 TLE=Yours Truly DC Hotel - Vignette Collection by IHG:geo:38.904874,-77.04
 7668
END:VEVENT
BEGIN:VTIMEZONE
TZID:America/Detroit
X-LIC-LOCATION:America/Detroit
BEGIN:STANDARD
DTSTART:20251102T010000
TZOFFSETFROM:-0400
TZOFFSETTO:-0500
TZNAME:EST
END:STANDARD
END:VTIMEZONE
END:VCALENDAR