BEGIN:VCALENDAR
VERSION:2.0
PRODID:-//wp-events-plugin.com//7.2.3.1//EN
TZID:America/Detroit
X-WR-TIMEZONE:America/Detroit
BEGIN:VEVENT
UID:34634@arabamerica.com
DTSTART;TZID=America/Detroit:20250627T190000
DTEND;TZID=America/Detroit:20250627T220000
DTSTAMP:20250622T013613Z
URL:https://www.arabamerica.com/events/bowling-night-with-the-arab-america
 -foundation-florida-team/
SUMMARY:Bowling Night! With the Arab America Foundation Florida Team
DESCRIPTION:WINTER PARK\, FL\n\n&nbsp\;\n\nJoin the Arab America Foundation
 's Florida Team on Friday\, June 27th for a night of bowling and fun at Al
 oma Bowl!\n\nBecome a Cousin (yearly member of the Arab America Foundation
 ) at the event and receive a free exclusive Florida Team T-shirt! New sign
 -ups only\, and limited while supplies available.\n\n&nbsp\;\n\nFor more i
 nfo\, email hello@michelinemaalouf.com or text the word "Bowling" to (786)
  344-7055\n\n&nbsp\;\n\n&nbsp\;
ATTACH;FMTTYPE=image/jpeg:https://www.arabamerica.com/wp-content/uploads/2
 025/06/bowling-night.jpg
LOCATION:Aloma Bowl\, 2530 Aloma Ave\, Winter Park\, FL\, 32792\, United St
 ates
GEO:28.60116;-81.318042
X-APPLE-STRUCTURED-LOCATION;VALUE=URI;X-ADDRESS=2530 Aloma Ave\, Winter Par
 k\, FL\, 32792\, United States;X-APPLE-RADIUS=100;X-TITLE=Aloma Bowl:geo:2
 8.60116,-81.318042
END:VEVENT
BEGIN:VTIMEZONE
TZID:America/Detroit
X-LIC-LOCATION:America/Detroit
BEGIN:DAYLIGHT
DTSTART:20250309T030000
TZOFFSETFROM:-0500
TZOFFSETTO:-0400
TZNAME:EDT
END:DAYLIGHT
END:VTIMEZONE
END:VCALENDAR