BEGIN:VCALENDAR
VERSION:2.0
PRODID:-//wp-events-plugin.com//7.2.3.1//EN
TZID:America/Detroit
X-WR-TIMEZONE:America/Detroit
BEGIN:VEVENT
UID:36207@arabamerica.com
DTSTART;TZID=America/Detroit:20260423T080000
DTEND;TZID=America/Detroit:20260424T220000
DTSTAMP:20260420T185244Z
URL:https://www.arabamerica.com/events/breaking-barriers-building-bridges-
 2/
SUMMARY:Breaking Barriers | Building Bridges
DESCRIPTION:WASHINGTON\, DC\n\n&nbsp\;\n\n\n\nJoin policymakers and Syrian 
 American leaders on Capitol Hill to discuss Syria’s transition and the f
 uture of U.S.–Syria engagement.\n\n\n\n\n\nThe Syrian American Alliance
  for Peace and Prosperity (SAAPP) invites you to the 2026 Annual Advocac
 y Conference\, taking place April 23 to 24\, 2026 in Washington\, D.C.
 \, on Capitol Hill.\n\nThis two day gathering will convene members of Cong
 ress\, policy experts\, and leaders from the Syrian American community for
  thoughtful discussions on Syria’s transition and the opportunities ahea
 d.\n\nThrough keynote remarks and expert panels\, the conference will expl
 ore pathways for economic recovery\, reconstruction\, and responsible inte
 rnational engagement as Syria moves into a new phase. The program will als
 o highlight the role of Syrian Americans in strengthening dialogue\, coope
 ration\, and partnership between the United States and Syria.\n\nWe welcom
 e policymakers\, professionals\, community leaders\, students\, and anyone
  interested in Syria’s future to join us for two days of meaningful dial
 ogue and engagement in Washington\, D.C.\n\n\n\n\nhttps://www.eventbrite.c
 om/e/breaking-barriers-building-bridges-tickets-1985108254226?aff=ebdssbde
 stsearch\n\n
ATTACH;FMTTYPE=image/jpeg:https://www.arabamerica.com/wp-content/uploads/2
 026/04/image-25.webp
LOCATION:Senate Visitor Center\, First St\, NE\, Washington\, D.C\, 20510\,
  United States
GEO:38.904871;-77.005894
X-APPLE-STRUCTURED-LOCATION;VALUE=URI;X-ADDRESS=First St\, NE\, Washington\
 , D.C\, 20510\, United States;X-APPLE-RADIUS=100;X-TITLE=Senate Visitor Ce
 nter:geo:38.904871,-77.005894
END:VEVENT
BEGIN:VTIMEZONE
TZID:America/Detroit
X-LIC-LOCATION:America/Detroit
BEGIN:DAYLIGHT
DTSTART:20260308T030000
TZOFFSETFROM:-0500
TZOFFSETTO:-0400
TZNAME:EDT
END:DAYLIGHT
END:VTIMEZONE
END:VCALENDAR