BEGIN:VCALENDAR
VERSION:2.0
PRODID:-//wp-events-plugin.com//7.2.3.1//EN
TZID:America/Detroit
X-WR-TIMEZONE:America/Detroit
BEGIN:VEVENT
UID:34395@arabamerica.com
DTSTART;TZID=America/Detroit:20250510T160000
DTEND;TZID=America/Detroit:20250510T190000
DTSTAMP:20250506T175607Z
URL:https://www.arabamerica.com/events/bridges-of-success-honoring-247-yea
 rs-of-u-s-morocco-friendship/
SUMMARY:Bridges of Success: Honoring 247 Years of U.S.–Morocco Friendship
DESCRIPTION:ALEXANDRIA\, VA\n\nBridges of Success: Honoring 247 Years of U.
 S.–Morocco Friendship is where inspiration meets action. Dive into high-
 impact panels on Franchising and Small business\, explore bold ideas aroun
 d AI and Cybersecurity\, and connect with game-changers from both sides of
  the Atlantic. With dynamic Q&amp\;As\, powerful community recognition\, a
 nd an exclusive reveal of a groundbreaking initiative—this event is a mu
 st for leaders\, doers\, and dreamers alike.
ATTACH;FMTTYPE=image/jpeg:https://www.arabamerica.com/wp-content/uploads/2
 025/05/Screenshot-2025-05-06-at-1.56.03 PM.png
LOCATION:3905 Wheeler Ave\, 3905 Wheeler Ave\, Alexandria\, VA\, 22304\, Un
 ited States
GEO:38.808052;-77.099018
X-APPLE-STRUCTURED-LOCATION;VALUE=URI;X-ADDRESS=3905 Wheeler Ave\, Alexandr
 ia\, VA\, 22304\, United States;X-APPLE-RADIUS=100;X-TITLE=3905 Wheeler Av
 e:geo:38.808052,-77.099018
END:VEVENT
BEGIN:VTIMEZONE
TZID:America/Detroit
X-LIC-LOCATION:America/Detroit
BEGIN:DAYLIGHT
DTSTART:20250309T030000
TZOFFSETFROM:-0500
TZOFFSETTO:-0400
TZNAME:EDT
END:DAYLIGHT
END:VTIMEZONE
END:VCALENDAR