BEGIN:VCALENDAR
VERSION:2.0
PRODID:-//wp-events-plugin.com//7.2.3.1//EN
TZID:America/Detroit
X-WR-TIMEZONE:America/Detroit
BEGIN:VEVENT
UID:31898@arabamerica.com
DTSTART;TZID=America/Detroit:20231210T193000
DTEND;TZID=America/Detroit:20231210T193000
DTSTAMP:20231114T081816Z
URL:https://www.arabamerica.com/events/brooklyn-maqam-presents-the-arab-bl
 ues-with-rami-gabriel-karim-nagi/
SUMMARY:Brooklyn Maqam Presents: The Arab Blues with Rami Gabriel & Karim N
 agi
DESCRIPTION:Doors @ 7:30\, Show @ 8pm\n$20 adv / $25 door\n\nRami Gabriel (
 Lebanon/Chicago) and Karim Nagi (Egypt/Chicago) create a dynamic and uniqu
 e amalgam of traditional Arabic music and Chicago Blues. The Oud\, Buzuq\,
  Tublah and Riqq are used along with Guitar and Drum Set to create a sound
  that could have only been imagined in America. Karim &amp\; Rami express 
 their tradition and identity through compositions and improvisational excu
 rsions that draw from their two traditions. In partnership with Brooklyn M
 aqam.
LOCATION:​Jalopy Theatre\, 315 Columbia St\, Brooklyn\, NY\, United State
 s
GEO:40.681341;-74.004263
X-APPLE-STRUCTURED-LOCATION;VALUE=URI;X-ADDRESS=315 Columbia St\, Brooklyn\
 , NY\, United States;X-APPLE-RADIUS=100;X-TITLE=​Jalopy Theatre:geo:40.6
 81341,-74.004263
END:VEVENT
BEGIN:VTIMEZONE
TZID:America/Detroit
X-LIC-LOCATION:America/Detroit
BEGIN:STANDARD
DTSTART:20231105T010000
TZOFFSETFROM:-0400
TZOFFSETTO:-0500
TZNAME:EST
END:STANDARD
END:VTIMEZONE
END:VCALENDAR