BEGIN:VCALENDAR
VERSION:2.0
PRODID:-//wp-events-plugin.com//7.2.3.1//EN
TZID:America/Detroit
X-WR-TIMEZONE:America/Detroit
BEGIN:VEVENT
UID:34675@arabamerica.com
DTSTART;TZID=America/Detroit:20250705T110000
DTEND;TZID=America/Detroit:20250705T160000
DTSTAMP:20250701T193410Z
URL:https://www.arabamerica.com/events/brothers-and-sisters-hike-to-fundra
 ise-for-syrian-families-in-turkiye/
SUMMARY:Brothers and Sisters Hike to fundraise for Syrian families in Turki
 ye
DESCRIPTION:Centreville\, VA\n\nJoin us for the Brothers and Sisters Hike t
 o raise funds for Syrian families in Türkiye! Lace up your hiking boots a
 nd come together for a great cause. The event will take place at the Ston
 e Bridge Parking Lot. Let's show our support and solidarity by hitting the
  trails and making a difference. Don't miss out on this opportunity to giv
 e back and enjoy the great outdoors with your brothers and sisters!
ATTACH;FMTTYPE=image/jpeg:https://www.arabamerica.com/wp-content/uploads/2
 025/07/Screenshot-2025-07-01-123118.png
CATEGORIES:Relief
LOCATION:Stone Bridge Parking Lot\, Unnamed road\, Centreville\, VA\, 20120
 \, United States
GEO:38.86298;-77.481669
X-APPLE-STRUCTURED-LOCATION;VALUE=URI;X-ADDRESS=Unnamed road\, Centreville\
 , VA\, 20120\, United States;X-APPLE-RADIUS=100;X-TITLE=Stone Bridge Parki
 ng Lot:geo:38.86298,-77.481669
END:VEVENT
BEGIN:VTIMEZONE
TZID:America/Detroit
X-LIC-LOCATION:America/Detroit
BEGIN:DAYLIGHT
DTSTART:20250309T030000
TZOFFSETFROM:-0500
TZOFFSETTO:-0400
TZNAME:EDT
END:DAYLIGHT
END:VTIMEZONE
END:VCALENDAR