BEGIN:VCALENDAR
VERSION:2.0
PRODID:-//wp-events-plugin.com//7.2.3.1//EN
TZID:America/Detroit
X-WR-TIMEZONE:America/Detroit
BEGIN:VEVENT
UID:33909@arabamerica.com
DTSTART;TZID=America/Detroit:20250111T180000
DTEND;TZID=America/Detroit:20250111T200000
DTSTAMP:20250108T052717Z
URL:https://www.arabamerica.com/events/buteekh-open-mic-night-for-palestin
 e-2/
SUMMARY:Buteekh Open Mic Night for Palestine
DESCRIPTION:WASHINGON\, DC\n\n&nbsp\;\n\nAt Buteekh we believe in the power
  of creative expression. On January 11th we are partnering with the Palest
 ine House of Freedom in Washington\, DC to host an Open Mic for Gaza. We a
 im to create a vibrant and inclusive platform for all attendees.\n\nWe wil
 l be working with Know Thy Heritage to ensure our donations provide essent
 ial care for extremely vulnerable and displaced Gazans.\n\nCLICK HERE fo
 r Performance Sign Up\n\nThrough the power of spoken word\, poetry\, song 
 writing\, music\, stand-up comedy\, storytelling and art in general. Use t
 his event as a safe and empowering space where individuals can share their
  unique experiences\, perspectives\, and aspirations.\n\nNote:\n\n 	Donati
 ons get to Gazan's on the ground in Palestine\n 	Donations are tax deducti
 ble\n
ATTACH;FMTTYPE=image/jpeg:https://www.arabamerica.com/wp-content/uploads/2
 025/01/ejfseufwae.png
LOCATION:650 Pennsylvania Ave. SE\, 650 Pennsylvania Ave. \, Washington\, 2
 0003\, United States
GEO:38.885379;-76.996932
X-APPLE-STRUCTURED-LOCATION;VALUE=URI;X-ADDRESS=650 Pennsylvania Ave. \, Wa
 shington\, 20003\, United States;X-APPLE-RADIUS=100;X-TITLE=650 Pennsylvan
 ia Ave. SE:geo:38.885379,-76.996932
END:VEVENT
BEGIN:VTIMEZONE
TZID:America/Detroit
X-LIC-LOCATION:America/Detroit
BEGIN:STANDARD
DTSTART:20241103T010000
TZOFFSETFROM:-0400
TZOFFSETTO:-0500
TZNAME:EST
END:STANDARD
END:VTIMEZONE
END:VCALENDAR