BEGIN:VCALENDAR
VERSION:2.0
PRODID:-//wp-events-plugin.com//7.2.3.1//EN
TZID:America/Detroit
X-WR-TIMEZONE:America/Detroit
BEGIN:VEVENT
UID:34563@arabamerica.com
DTSTART;TZID=America/Detroit:20250610T180000
DTEND;TZID=America/Detroit:20250610T200000
DTSTAMP:20250610T223145Z
URL:https://www.arabamerica.com/events/buy-in-party-make-maamoul-with-chef
 -t-2/
SUMMARY:Buy-In Party: Make Ma’amoul with Chef T
DESCRIPTION:SEATTLE\, WA\n\n&nbsp\;\n\nMake Ma’amoul with Chef T\, a 6-8p
 m cooking class at the Pastry Project 6/10 Tuesday. Join us for an evening
  of hands-on learning.\nBuy-In Party: Make Ma’amoul with Chef T\nTuesday
 \, June 10 | 6:00–8:00 PM\n&#x1f4cd\; The Pastry Project – Seattle\nTi
 ckets support Wasat programming!\n\nJoin us for a sweet evening of hands-o
 n learning and warm community vibes at our next Buy-In Party! Chef T will 
 guide us through the art of making Ma’amoul\, a beloved filled pastry wi
 th deep roots across the Arab world—often shared during Eid and special 
 gatherings.\n\nWhat to Expect:\n\n 	A hands-on cooking class led by Chef T
 \n 	Learn to make (and taste!) traditional Ma’amoul\n 	Connect with othe
 rs in a cozy\, joyful kitchen space\n 	Take home a few sweets—and new sk
 ills\n\nMeet Your Chef:\nTarik Abdullah\, a seasoned Seattle chef with 30 
 years of culinary experience spanning Los Angeles and his hometown. Influe
 nced by a diverse upbringing in a\ncommunity rich with Middle Eastern\, So
 utheast Asian\, African\, and Mediterranean cultures\, Tarik's cooking is 
 a flavorful fusion of spices.\n\nWhat’s a Buy-In Party?\nBuy-In Parties 
 are community-powered fundraisers where folks donate their skills and tick
 et sales support Wasat’s programs.\n\nSpace is limited\n\nUpcoming event
 s:\n\nFind out more on our website: https://www.wearewasat.org/events. All
  are welcome.\n\nGet Tickets Here\n\n&nbsp\;
ATTACH;FMTTYPE=image/jpeg:https://www.arabamerica.com/wp-content/uploads/2
 025/06/Screenshot-2025-06-10-at-6.31.50-PM.png
CATEGORIES:Arab,Arab Ameircan Event,Community,culture,Food
LOCATION:The Pastry Project\, 165 South Main Street\, Seattle\, WA\, 98104\
 , United States
GEO:47.599945;-122.332297
X-APPLE-STRUCTURED-LOCATION;VALUE=URI;X-ADDRESS=165 South Main Street\, Sea
 ttle\, WA\, 98104\, United States;X-APPLE-RADIUS=100;X-TITLE=The Pastry Pr
 oject:geo:47.599945,-122.332297
END:VEVENT
BEGIN:VTIMEZONE
TZID:America/Detroit
X-LIC-LOCATION:America/Detroit
BEGIN:DAYLIGHT
DTSTART:20250309T030000
TZOFFSETFROM:-0500
TZOFFSETTO:-0400
TZNAME:EDT
END:DAYLIGHT
END:VTIMEZONE
END:VCALENDAR