BEGIN:VCALENDAR
VERSION:2.0
PRODID:-//wp-events-plugin.com//7.2.3.1//EN
TZID:America/Detroit
X-WR-TIMEZONE:America/Detroit
BEGIN:VEVENT
UID:32375@arabamerica.com
DTSTART;TZID=America/Detroit:20240320T190000
DTEND;TZID=America/Detroit:20240320T203000
DTSTAMP:20240304T174124Z
URL:https://www.arabamerica.com/events/bye-bye-tiberias/
SUMMARY:Bye Bye Tiberias
DESCRIPTION:ME.\n\n\n\nIn her early twenties\, Hiam Abbass (Emmy-nominated 
 for Succession) left her native Palestinian village to follow her dream o
 f becoming an actress in Europe\, leaving behind her mother\, grandmother\
 , and seven sisters. Thirty years later\, her filmmaker daughter Lina retu
 rns with her to the village and questions for the first time her mother’
 s bold choices\, her chosen exile and the way the women in their family in
 fluenced both their lives. Set between past and present\, BYE BYE TIBERIAS
  pieces together images of today\, family footage from the nineties and hi
 storical archives to portray four generations of daring Palestinian women 
 who keep their story and legacy alive through the strength of their bonds\
 , despite exile\, dispossession\, and heartbreak.\n\nPalestine’s entry f
 or Best International Feature in the 2024 Academy Awards\, this second fea
 ture from Lina Soualem premiered at Venice\, won the Grierson Award at the
  BFI London Film Festival\, had its North American Premiere at the Toronto
  International Film Festival\, and won the shared jury prize at the Marrak
 ech International Film Festival. An important film that beautifully portra
 ys the complexity of Arab women’s lives.\n\n\n\n\n\n\n\n
ATTACH;FMTTYPE=image/jpeg:https://www.arabamerica.com/wp-content/uploads/2
 024/03/https___cdn.evbuc_.com_images_695374629_22635901864_1_original.jpeg
CATEGORIES:Arab Film
END:VEVENT
BEGIN:VTIMEZONE
TZID:America/Detroit
X-LIC-LOCATION:America/Detroit
BEGIN:DAYLIGHT
DTSTART:20240310T030000
TZOFFSETFROM:-0500
TZOFFSETTO:-0400
TZNAME:EDT
END:DAYLIGHT
END:VTIMEZONE
END:VCALENDAR