BEGIN:VCALENDAR
VERSION:2.0
PRODID:-//wp-events-plugin.com//7.2.3.1//EN
TZID:America/Detroit
X-WR-TIMEZONE:America/Detroit
BEGIN:VEVENT
UID:34891@arabamerica.com
DTSTART;TZID=America/Detroit:20250823T100000
DTEND;TZID=America/Detroit:20250823T180000
DTSTAMP:20250804T185438Z
URL:https://www.arabamerica.com/events/calligraphy-exhibition-and-demonstr
 ations/
SUMMARY:Calligraphy Exhibition and Demonstrations
DESCRIPTION:\n\n\n\nAgenda\n\n\n\n\n\n10:00 AM - 4:00 AM (+1 day)\nExhibit\
 n\n\n\n\nHaji Noor art will be on exhibit at the Islamic Dawah Center Libr
 ary and it will be available for sale. Haji Noor will be present during th
 e exhibit on Saturday.\n\n\n\n\n4:00 PM - 6:00 PM\nGroup Demonstration and
  Workshop\n\n\n\n\nThis family-friendly event is with a visual journey thr
 ough the 1000-year legacy of the Wei Muslims in China\, intertwined with a
  captivating demonstration of Arabic Calligraphy in the Chinese Style\, ..
 .\nView More\n\n\n\n\n\n\n\n\n\n\n\n\n\n\nAbout this event\n\n\n 	Event la
 sts 8 hours\n\n\n\n\n\nUnique Fusion of Eastern and Western CalligraphyHaj
 i Noor Deen Mi Guang Jiang is a renowned master of Arabic calligraphy. Bor
 n in 1963 in Shangdong province\, China\, he brings an immense learning in
  traditional thought and Islamic art to a modern audience\, juxtaposing th
 em in a new calligraphic style all his own\, both Eastern and Western.\n\n
 \n\n\n\n\n\n\n
ATTACH;FMTTYPE=image/jpeg:https://www.arabamerica.com/wp-content/uploads/2
 025/08/Screenshot-2025-08-04-at-2.51.46-PM.png
LOCATION:Islamic Da'wah Center\, 201 Travis Street \, Houston\, \, Texas\, 
 77002\, United States
GEO:29.76292;-95.360549
X-APPLE-STRUCTURED-LOCATION;VALUE=URI;X-ADDRESS=201 Travis Street \, Housto
 n\, \, Texas\, 77002\, United States;X-APPLE-RADIUS=100;X-TITLE=Islamic Da
 'wah Center:geo:29.76292,-95.360549
END:VEVENT
BEGIN:VTIMEZONE
TZID:America/Detroit
X-LIC-LOCATION:America/Detroit
BEGIN:DAYLIGHT
DTSTART:20250309T030000
TZOFFSETFROM:-0500
TZOFFSETTO:-0400
TZNAME:EDT
END:DAYLIGHT
END:VTIMEZONE
END:VCALENDAR