BEGIN:VCALENDAR
VERSION:2.0
PRODID:-//wp-events-plugin.com//7.2.3.1//EN
TZID:America/Detroit
X-WR-TIMEZONE:America/Detroit
BEGIN:VEVENT
UID:35627@arabamerica.com
DTSTART;TZID=America/New_York:20260221T170000
DTEND;TZID=America/New_York:20260221T210000
DTSTAMP:20251224T044407Z
URL:https://www.arabamerica.com/events/carrying-the-ummahs-pain-being-the-
 ansar-of-today-for-gaza-and-sudan-2/
SUMMARY:Carrying the Ummah’s Pain: Being the Ansar of Today for Gaza and 
 Sudan
DESCRIPTION:COMMACK\, NY\n\nOverview\n\n\n\n\n\nAn inspiring night with Dr.
  Yasir Qadhi supporting Gaza &amp\; Sudan — $100/person\, Iftar included
 .\n\n\n\n\nJoin Droplets of Mercy for a powerful evening dedicated to su
 pporting families in Gaza and Sudan\, featuring a deeply inspiring talk b
 y Dr. Yasir Qadhi\, accompanied by Br. Tayyib Zaman and Ustadh Omar Ma
 lik.\n\nThis special gathering focuses on reviving the spirit of Ansar\,
  standing with the oppressed\, carrying the Ummah’s pain\, and fulfilli
 ng our responsibility toward those suffering unimaginable hardship.\n\nYou
 r attendance directly supports crucial humanitarian and medical efforts on
  the ground.\n\n\n\n\n\n\n\n
ATTACH;FMTTYPE=image/jpeg:https://www.arabamerica.com/wp-content/uploads/2
 025/12/A-NIGHT-FOR-GAZA-AND-SUDAN.png
LOCATION:MDQ Academy\, 40 Kings Park Road\, Commack\, NY\, 11725\, United S
 tates
GEO:40.850716;-73.268936
X-APPLE-STRUCTURED-LOCATION;VALUE=URI;X-ADDRESS=40 Kings Park Road\, Commac
 k\, NY\, 11725\, United States;X-APPLE-RADIUS=100;X-TITLE=MDQ Academy:geo:
 40.850716,-73.268936
END:VEVENT
BEGIN:VTIMEZONE
TZID:America/New_York
X-LIC-LOCATION:America/New_York
BEGIN:STANDARD
DTSTART:20251102T010000
TZOFFSETFROM:-0400
TZOFFSETTO:-0500
TZNAME:EST
END:STANDARD
END:VTIMEZONE
END:VCALENDAR