BEGIN:VCALENDAR
VERSION:2.0
PRODID:-//wp-events-plugin.com//7.2.3.1//EN
TZID:America/Detroit
X-WR-TIMEZONE:America/Detroit
BEGIN:VEVENT
UID:34483@arabamerica.com
DTSTART;TZID=America/Detroit:20250608T140000
DTEND;TZID=America/Detroit:20250608T160000
DTSTAMP:20250602T142208Z
URL:https://www.arabamerica.com/events/celebrate-eid-ul-adha-at-icr-new-mu
 slims/
SUMMARY:Celebrate Eid Ul-Adha at ICR - New Muslims!
DESCRIPTION:RIVERSIDE\, CA\n\nCelebrate Eid at ICR - New Muslims!\n\nCome j
 oin us at the Islamic Center of Riverside for a special Eid celebration 
 tailored just for new Muslims! Let's come together to enjoy delicious foo
 d\, connect with fellow brothers and sisters\, and celebrate this joyous o
 ccasion. Don't miss out on this wonderful gathering!
ATTACH;FMTTYPE=image/jpeg:https://www.arabamerica.com/wp-content/uploads/2
 025/06/Screenshot-2025-06-02-072134.png
CATEGORIES:Eid Al-Adha
LOCATION:Islamic Center of Riverside\, 1038 West Linden Street\, Riverside\
 , CA\, 92507\, United States
GEO:33.978372;-117.334456
X-APPLE-STRUCTURED-LOCATION;VALUE=URI;X-ADDRESS=1038 West Linden Street\, R
 iverside\, CA\, 92507\, United States;X-APPLE-RADIUS=100;X-TITLE=Islamic C
 enter of Riverside:geo:33.978372,-117.334456
END:VEVENT
BEGIN:VTIMEZONE
TZID:America/Detroit
X-LIC-LOCATION:America/Detroit
BEGIN:DAYLIGHT
DTSTART:20250309T030000
TZOFFSETFROM:-0500
TZOFFSETTO:-0400
TZNAME:EDT
END:DAYLIGHT
END:VTIMEZONE
END:VCALENDAR