BEGIN:VCALENDAR
VERSION:2.0
PRODID:-//wp-events-plugin.com//7.2.3.1//EN
TZID:America/Detroit
X-WR-TIMEZONE:America/Detroit
BEGIN:VEVENT
UID:36097@arabamerica.com
DTSTART;TZID=America/Detroit:20260327T180000
DTEND;TZID=America/Detroit:20260327T203000
DTSTAMP:20260325T163707Z
URL:https://www.arabamerica.com/events/celebrate-international-womens-mont
 h/
SUMMARY:Celebrate International Women’s Month
DESCRIPTION:\n\n\nCelebrate International Women’s Month! Join us for a po
 werful afternoon of speakers\, networking\, and community as we honor wome
 n everywhere.\n\n\n\n\n\n\nCelebrate International Women’s Month with 
 us! This event is designed to honor the achievements of women while foster
 ing a space for growth\, connection\, and inspiration.\n\nEvent Highlights
 \nKeynote Speakers: Hear from trailblazing women sharing stories of resil
 ience and leadership.\nInteractive Workshops: Gain practical skills in pr
 ofessional branding\, wellness\, or financial literacy.\nNetworking Lounge
 : Connect with local leaders\, mentors\, and peers over refreshments.\nCo
 mmunity Showcase: Beyond just networking\, this space is designed for mea
 ningful collaboration.\nWhy Attend?\nWhether you’re looking to sharpen y
 our professional edge or simply want to be surrounded by an empowering com
 munity\, this event offers the perfect mix of advocacy and celebration. W
 e’re coming together to reflect on how far we’ve come and to ignite th
 e path forward.\nTheme: Inspiring Inclusion &amp\; Elevating Every Woman.
 \n\nREGISTER HERE\n\n\n
ATTACH;FMTTYPE=image/jpeg:https://www.arabamerica.com/wp-content/uploads/2
 026/03/IMG_7089.png
CATEGORIES:Arab American,culture,Discussion
LOCATION:Vienna Community Center\, 120 Cherry Street\, S.E.\, Vienna\, Virg
 inia\, 22180\, United States
GEO:38.900611;-77.26010300000002
X-APPLE-STRUCTURED-LOCATION;VALUE=URI;X-ADDRESS=120 Cherry Street\, S.E.\, 
 Vienna\, Virginia\, 22180\, United States;X-APPLE-RADIUS=100;X-TITLE=Vienn
 a Community Center:geo:38.900611,-77.26010300000002
END:VEVENT
BEGIN:VTIMEZONE
TZID:America/Detroit
X-LIC-LOCATION:America/Detroit
BEGIN:DAYLIGHT
DTSTART:20260308T030000
TZOFFSETFROM:-0500
TZOFFSETTO:-0400
TZNAME:EDT
END:DAYLIGHT
END:VTIMEZONE
END:VCALENDAR