BEGIN:VCALENDAR
VERSION:2.0
PRODID:-//wp-events-plugin.com//7.2.3.1//EN
TZID:America/Detroit
X-WR-TIMEZONE:America/Detroit
BEGIN:VEVENT
UID:34351@arabamerica.com
DTSTART;TZID=America/Detroit:20250430T183000
DTEND;TZID=America/Detroit:20250430T210000
DTSTAMP:20250429T162045Z
URL:https://www.arabamerica.com/events/celebrate-little-palestine-day-with
 -us/
SUMMARY:Celebrate Little Palestine Day With Us!
DESCRIPTION:BRIDGEVIEW\, IL\n\nWe have a great event lined up — and you
 ’re invited!  Join us for a special celebration of the Little Palestine
  Day Resolution during Arab American Heritage Month!\n\nYou’ll hear fro
 m key honorary guests and leaders who are making waves in our community\,
  including:\n\n 	Cook County Commissioner Donna Miller\n\n\n 	Senator Will
 ie Preston (16th District)\n\n\n 	IL State Representative Lisa Davis (32nd
  District)\n\n\n 	IL State Representative Michael Crawford (31st District)
 \n\n\n 	Senator Mike Porfirio (11th District)\n\n\n 	And Event MC: Mayor M
 ary Alexander-Basta (Bolingbrook)\n\n&#x1f4c5\; Wednesday\, April 30th\n&
 #x1f561\; 6:30 PM\n&#x1f4cd\; Albawadi Grill - Bridgeview\n\n&#x2728\; 
 It’s going to be a powerful night of celebration\, connection\, and comm
 unity pride.\nSpots are limited — don’t miss out!
ATTACH;FMTTYPE=image/jpeg:https://www.arabamerica.com/wp-content/uploads/2
 025/04/Screenshot-2025-04-29-091700.jpg
CATEGORIES:Palestine,Palestinian Voices
LOCATION:Albawadi Grill\, 7216 W 87th St.\, Bridgeview\, IL\, 60455\, Unite
 d States
GEO:41.733812;-87.801193
X-APPLE-STRUCTURED-LOCATION;VALUE=URI;X-ADDRESS=7216 W 87th St.\, Bridgevie
 w\, IL\, 60455\, United States;X-APPLE-RADIUS=100;X-TITLE=Albawadi Grill:g
 eo:41.733812,-87.801193
END:VEVENT
BEGIN:VTIMEZONE
TZID:America/Detroit
X-LIC-LOCATION:America/Detroit
BEGIN:DAYLIGHT
DTSTART:20250309T030000
TZOFFSETFROM:-0500
TZOFFSETTO:-0400
TZNAME:EDT
END:DAYLIGHT
END:VTIMEZONE
END:VCALENDAR