BEGIN:VCALENDAR
VERSION:2.0
PRODID:-//wp-events-plugin.com//7.2.3.1//EN
TZID:America/Detroit
X-WR-TIMEZONE:America/Detroit
BEGIN:VEVENT
UID:34095@arabamerica.com
DTSTART;TZID=America/Detroit:20250227T180000
DTEND;TZID=America/Detroit:20250227T233000
DTSTAMP:20250225T014951Z
URL:https://www.arabamerica.com/events/celebrating-a-free-syria-rebuilding
 -syrian-lives/
SUMMARY:Celebrating a Free Syria: Rebuilding Syrian Lives
DESCRIPTION:Celebrating and Rebuilding a Free Syria\n\nCome join us at Asht
 on Place for a special event dedicated to celebrating the resilience and s
 trength of the Syrian people. Together\, we will honor their courage and d
 etermination in the face of adversity. Join us for a day filled with music
 \, food\, and inspiring stories of hope and progress. Let's come together 
 to show our support for a free and prosperous Syria. Don't miss out on thi
 s opportunity to be a part of something truly meaningful. See you there!
ATTACH;FMTTYPE=image/jpeg:https://www.arabamerica.com/wp-content/uploads/2
 025/02/https-cdn.evbuc_.com-images-945262363-2594703118171-1-original.2025
 0127-034145.jpeg
LOCATION:Ashton Place\, 341 75th Street\, Willowbrook\, IL\, 60527\, United
  States
GEO:41.75121980000001;-87.95621719999997
X-APPLE-STRUCTURED-LOCATION;VALUE=URI;X-ADDRESS=341 75th Street\, Willowbro
 ok\, IL\, 60527\, United States;X-APPLE-RADIUS=100;X-TITLE=Ashton Place:ge
 o:41.75121980000001,-87.95621719999997
END:VEVENT
BEGIN:VTIMEZONE
TZID:America/Detroit
X-LIC-LOCATION:America/Detroit
BEGIN:STANDARD
DTSTART:20241103T010000
TZOFFSETFROM:-0400
TZOFFSETTO:-0500
TZNAME:EST
END:STANDARD
END:VTIMEZONE
END:VCALENDAR