BEGIN:VCALENDAR
VERSION:2.0
PRODID:-//wp-events-plugin.com//7.2.3.1//EN
TZID:America/Detroit
X-WR-TIMEZONE:America/Detroit
BEGIN:VEVENT
UID:34414@arabamerica.com
DTSTART;TZID=America/Detroit:20250615T130000
DTEND;TZID=America/Detroit:20250615T170000
DTSTAMP:20250519T170556Z
URL:https://www.arabamerica.com/events/celebrating-palestine-2/
SUMMARY:Celebrating Palestine
DESCRIPTION:Join us for an afternoon of celebrating Palestinian culture thr
 ough music\, food\, art\, dance\, a fashion show and more! Let's come toge
 ther to honor the rich culture and heritage of Palestine.\nThere will be l
 ive performances\, delicious traditional dishes\, and beautiful displays o
 f Palestinian art.\n&nbsp\;\n\nRegister Here
ATTACH;FMTTYPE=image/jpeg:https://www.arabamerica.com/wp-content/uploads/2
 025/05/Screenshot-2025-05-19-at-11.45.30-AM.png
LOCATION:Marcus Performing Arts Center\, 929 North Water Street \, Milwauke
 e\, WI\, 53202\, United States
GEO:43.042913;-87.911491
X-APPLE-STRUCTURED-LOCATION;VALUE=URI;X-ADDRESS=929 North Water Street \, M
 ilwaukee\, WI\, 53202\, United States;X-APPLE-RADIUS=100;X-TITLE=Marcus Pe
 rforming Arts Center:geo:43.042913,-87.911491
END:VEVENT
BEGIN:VTIMEZONE
TZID:America/Detroit
X-LIC-LOCATION:America/Detroit
BEGIN:DAYLIGHT
DTSTART:20250309T030000
TZOFFSETFROM:-0500
TZOFFSETTO:-0400
TZNAME:EDT
END:DAYLIGHT
END:VTIMEZONE
END:VCALENDAR