BEGIN:VCALENDAR
VERSION:2.0
PRODID:-//wp-events-plugin.com//7.2.3.1//EN
TZID:America/Detroit
X-WR-TIMEZONE:America/Detroit
BEGIN:VEVENT
UID:35552@arabamerica.com
DTSTART:20251211T030000Z
DTEND:20251211T043000Z
DTSTAMP:20251210T072419Z
URL:https://www.arabamerica.com/events/celebrating-rumi-poetry-philosophy-
 and-symbols-of-the-sufi-path/
SUMMARY:Celebrating Rumi: Poetry\, Philosophy\, and Symbols of the Sufi Pat
 h
DESCRIPTION:\n\nLOS ANGELES\, CA\nOverview\n\n\n\n\n\nJoin Fahad Siadat for
  a special presentation that will explore the facts and legends surroundin
 g Rumi's life\, philosophy\, and poetry.\n\n\n\n\nCelebrating Rumi: Poetry
 \, Philosophy\, and Symbols of the Sufi Path with Fahad Siadat\n\nJoin us 
 for a special presentation that will explore the facts and legends surroun
 ding Rumi's life\, philosophy\, and poetry.\n\nThe 13th Century poet Rumi 
 is one of the most popular poets of the contemporary world. This presentat
 ion will explore the facts and legends surrounding his life\, the spiritua
 l philosophy that drove his poetry\, and the symbolic meaning of the whirl
 ing ritual that originated from his greatest tragedy.\n\nABOUT THE PRESENT
 ER:\n\nDescribed by the LA times as a “fanciful and downright utopian ar
 tist and thinker“\, Fahad Siadat is a composer\, performer\, conductor
 \, and essayist exploring the intersection of musical and spiritual practi
 ces. He is the artistic director of the Resonance Collective\, a multiface
 ted arts organization that seeks to unveil mystery through the arts.\n\nFa
 had has been giving performances and lectures on beloved topics at the Phi
 losophical Research Society since 2019.\n\nFor more information about his 
 creative work\, visit www.fahadsiadat.com\n\nTicket price: $12 (in-perso
 n &amp\; zoom)\n\nPlease email events@prs.org or phone 323-663-2167 with 
 any questions.\n\n\n\n\n\n\n\n\n\n\n\n\n\nCONTENT DISCLAIMER\n\nThe views\
 , opinions\, and thoughts expressed within exhibited works are solely thos
 e of their creators and may not represent those of the Philosophical Resea
 rch Society (PRS)\, its affiliates\, or any individuals associated with PR
 S. Screenings are intended for educational and entertainment purposes.\n\n
 ACCESSIBILITY\n\nPRS wants all guests to be able to enjoy our events safel
 y and comfortably. If you require any accessibility accommodation\, please
  reach out to events@prs.org before showtime and we will be happy to assis
 t you.\n\nREFUND POLICIES\n\nAll sales are final. There are no refunds for
  PRS events \, except in the event of a medical emergency\, including but
  not limited to a positive COVID-19 test. Ticket exchanges may be granted 
 on a case by case basis\, pending circumstances.\n\nIn the event that PRS 
 is forced to cancel an event entirely\, tickets will be refunded or vouche
 rs offered for a rescheduled event.\n\nPARKING\n\nLimited parking is avail
 able onsite at PRS in both the front lot (entry from Los Feliz Blvd. when 
 heading east) and back lot (entry from first alley way\, off Griffith Park
  Blvd. from intersection with Los Feliz Blvd.)\, as well as street parking
  on Griffith Park Blvd. and (after 7 PM) on Los Feliz Blvd. We encourage a
 ttendees to consider carpooling\, walking or biking to events if possible\
 , and please be considerate of our Los Feliz neighbors when parking.\n\nPR
 S EVENT POLICIES\n\n 	We reserve the right to refuse service to anyone.\n 
 	Events are subject to change without notice\, including guest speakers an
 d/or performers.\n 	We encourage you to arrive at least 30 min. before the
  scheduled event start time to find parking\, enjoy the Bookstore and take
  your seats.\n 	Please turn off all mobile devices before the show. Talkin
 g and texting are not allowed during the events.\n 	No filming\, audio rec
 ording or mobile phone recording of events\, screenings\, concerts or othe
 r programs by audience members is allowed without permission.\n 	There is 
 no smoking permitted on PRS grounds.\n 	We strongly encourage guests to we
 ar masks to PRS events to prevent the spread of infectious diseases.\n 	PR
 S allows Service Animals into the facility under ADA and state guidelines.
  For further details please visit www.ADA.gov. No animals permitted whose 
 sole function is to provide comfort or emotional support\, under ADA guide
 lines and CA Health Code.\n 	Please do not bring outside food or drink int
 o PRS events.\n 	Weapons are strictly prohibited at PRS events.\n\n\n\n\n\
 n
ATTACH;FMTTYPE=image/jpeg:https://www.arabamerica.com/wp-content/uploads/2
 016/06/Rumi-wasnt-White.jpg
CATEGORIES:culture
LOCATION:Philosophical Research Society\, 3910 Los Feliz Boulevard\, Los An
 geles\, CA\, 90027\, United States
GEO:34.113121;-118.277651
X-APPLE-STRUCTURED-LOCATION;VALUE=URI;X-ADDRESS=3910 Los Feliz Boulevard\, 
 Los Angeles\, CA\, 90027\, United States;X-APPLE-RADIUS=100;X-TITLE=Philos
 ophical Research Society:geo:34.113121,-118.277651
END:VEVENT
END:VCALENDAR