BEGIN:VCALENDAR
VERSION:2.0
PRODID:-//wp-events-plugin.com//7.2.3.1//EN
TZID:America/Detroit
X-WR-TIMEZONE:America/Detroit
BEGIN:VEVENT
UID:34011@arabamerica.com
DTSTART;TZID=America/Detroit:20250202T160000
DTEND;TZID=America/Detroit:20250202T210000
DTSTAMP:20250122T171640Z
URL:https://www.arabamerica.com/events/celebration-of-prophet-zakaria/
SUMMARY:Celebration of  Prophet Zakaria
DESCRIPTION:STERLING\, VA\n\n&nbsp\;\n\nDon't miss this celebration of Prop
 het Zakaria\, a cherished tradition bringing our community together in fai
 th and unity. This is a free event open to all\, but  attendees are encou
 raged to contribute by bringing a dish of any kind to share.
ATTACH;FMTTYPE=image/jpeg:https://www.arabamerica.com/wp-content/uploads/2
 025/01/474238327_1166732754801221_7015990089046244531_n.jpg
LOCATION:20430 Quarterpath Trace\, 20430 Quarterpath Trace Cir\, Sterling\,
  VA\, 20165\, United States
GEO:39.050988;-77.374721
X-APPLE-STRUCTURED-LOCATION;VALUE=URI;X-ADDRESS=20430 Quarterpath Trace Cir
 \, Sterling\, VA\, 20165\, United States;X-APPLE-RADIUS=100;X-TITLE=20430 
 Quarterpath Trace:geo:39.050988,-77.374721
END:VEVENT
BEGIN:VTIMEZONE
TZID:America/Detroit
X-LIC-LOCATION:America/Detroit
BEGIN:STANDARD
DTSTART:20241103T010000
TZOFFSETFROM:-0400
TZOFFSETTO:-0500
TZNAME:EST
END:STANDARD
END:VTIMEZONE
END:VCALENDAR