BEGIN:VCALENDAR
VERSION:2.0
PRODID:-//wp-events-plugin.com//7.2.3.1//EN
TZID:America/Detroit
X-WR-TIMEZONE:America/Detroit
BEGIN:VEVENT
UID:34859@arabamerica.com
DTSTART;TZID=America/Detroit:20250817T130000
DTEND;TZID=America/Detroit:20250817T180000
DTSTAMP:20250801T050935Z
URL:https://www.arabamerica.com/events/cfp-sd-fundraiser-for-palestine-3/
SUMMARY:CFP-SD Fundraiser for Palestine
DESCRIPTION:SAN DIEGO\, CA\n\nWelcome to the CFP Fundraiser for Palestine!
  Join us at Serpentine Cider &amp\; Smokehouse for a night of fun and fu
 ndraising for a great cause. Let's come together to show our support and s
 olidarity for Palestine. Enjoy refreshing drinks and win prizes while cont
 ributing to a meaningful cause. Your presence will make a difference. See 
 you there!\n\n--\n\nClimbers for Palestine San Diego is hosting a non-clim
 bing fundraising event for Palestine to recap our 2025 'Climb The Wall' fu
 ndraiser efforts. Come be in community\, while raising awareness of and fu
 nds for the Palestinian cause. This event is welcome to ALL\, not just cli
 mbers!\n\nWe will have over $4\,000 in prizes\, a flash tattoo artist onsi
 te (@ramijubrandraws on IG)\, art activities led by local artist RVN (@art
 byrvn on IG)\, a panel featuring local community orgs\, and more!\n\nMore 
 info coming soon...
LOCATION:Serpentine Cider & Smokehouse\, 8665 Miralani Drive #Suite 100\, S
 an Diego \, California \, 92126\, United States
GEO:32.895314;-117.137265
X-APPLE-STRUCTURED-LOCATION;VALUE=URI;X-ADDRESS=8665 Miralani Drive #Suite 
 100\, San Diego \, California \, 92126\, United States;X-APPLE-RADIUS=100;
 X-TITLE=Serpentine Cider & Smokehouse:geo:32.895314,-117.137265
END:VEVENT
BEGIN:VTIMEZONE
TZID:America/Detroit
X-LIC-LOCATION:America/Detroit
BEGIN:DAYLIGHT
DTSTART:20250309T030000
TZOFFSETFROM:-0500
TZOFFSETTO:-0400
TZNAME:EDT
END:DAYLIGHT
END:VTIMEZONE
END:VCALENDAR