BEGIN:VCALENDAR
VERSION:2.0
PRODID:-//wp-events-plugin.com//7.2.3.1//EN
TZID:America/Detroit
X-WR-TIMEZONE:America/Detroit
BEGIN:VEVENT
UID:35783@arabamerica.com
DTSTART;TZID=America/Los_Angeles:20260224T164500
DTEND;TZID=America/Los_Angeles:20260224T164500
DTSTAMP:20260130T162354Z
URL:https://www.arabamerica.com/events/cham-ya-elite-iftar-tues-feb-24/
SUMMARY:CHAM-YA ELITE IFTAR TUES. FEB 24
DESCRIPTION:Experience a magical Ramadan Iftar with delicious cuisine\, war
 m hospitality\, and a night of togetherness and blessings.
ATTACH;FMTTYPE=image/jpeg:https://www.arabamerica.com/wp-content/uploads/2
 026/01/image-8-2.webp
CATEGORIES:Arab Cuisine,Arab Food,Iftar,Iftar Dinner,Ramadan
 Banquet,Ramadan Iftar
LOCATION:Meridian Qube Fitness Center\, 1535 Deerpark Drive\, Fullerton\, C
 A\, United States
GEO:33.886866;-117.879266
X-APPLE-STRUCTURED-LOCATION;VALUE=URI;X-ADDRESS=1535 Deerpark Drive\, Fulle
 rton\, CA\, United States;X-APPLE-RADIUS=100;X-TITLE=Meridian Qube Fitness
  Center:geo:33.886866,-117.879266
END:VEVENT
BEGIN:VTIMEZONE
TZID:America/Los_Angeles
X-LIC-LOCATION:America/Los_Angeles
BEGIN:STANDARD
DTSTART:20251102T010000
TZOFFSETFROM:-0700
TZOFFSETTO:-0800
TZNAME:PST
END:STANDARD
END:VTIMEZONE
END:VCALENDAR