BEGIN:VCALENDAR
VERSION:2.0
PRODID:-//wp-events-plugin.com//7.2.3.1//EN
TZID:America/Detroit
X-WR-TIMEZONE:America/Detroit
BEGIN:VEVENT
UID:34276@arabamerica.com
DTSTART;TZID=America/Detroit:20250412T103000
DTEND;TZID=America/Detroit:20250412T120000
DTSTAMP:20250407T060014Z
URL:https://www.arabamerica.com/events/charles-perry-banquets-of-marrakesh
 /
SUMMARY:Charles Perry\, "Banquets of Marrakesh"
DESCRIPTION:LOS ANGELES\, CA\n\n********Free event******At Central Library 
 in DTLA********\n\nMorocco is the only Arab country that was never conquer
 ed by the Turks\, and it has preserved and elaborated unique culinary trad
 itions with roots in medieval Moorish Spain as well as North Africa. Even 
 today\, its king can organize huge food festivals which give us a sense of
  what it was like to dine there four centuries ago when it was a major pla
 yer in Mediterranean politics. Compare with Charles Perry’s December tal
 k\, “Banquets of Istanbul.”\n\nCharles Perry majored in Middle East St
 udies at Princeton University and the University of California\, Berkeley.
  After graduation he pursued a writing career\, serving as an editor and s
 taff writer at Rolling Stone from 1968 to 1976 and a staff writer at the L
 os Angeles Times Food Section from 1990 to 2008. He began collecting medie
 val Arab cookery manuscripts in 1980 and has published widely on Middle Ea
 stern food history.
ATTACH;FMTTYPE=image/jpeg:https://www.arabamerica.com/wp-content/uploads/2
 025/04/Screenshot-2025-04-07-at-2.07.25 AM.png
LOCATION:Los Angles Central Library Mark Taper Audiitorium\, 524 South Flow
 er St\, Los Angles\, California\, 90012\, United States
GEO:34.050857;-118.25650559999997
X-APPLE-STRUCTURED-LOCATION;VALUE=URI;X-ADDRESS=524 South Flower St\, Los A
 ngles\, California\, 90012\, United States;X-APPLE-RADIUS=100;X-TITLE=Los 
 Angles Central Library Mark Taper Audiitorium:geo:34.050857,-118.256505599
 99997
END:VEVENT
BEGIN:VTIMEZONE
TZID:America/Detroit
X-LIC-LOCATION:America/Detroit
BEGIN:DAYLIGHT
DTSTART:20250309T030000
TZOFFSETFROM:-0500
TZOFFSETTO:-0400
TZNAME:EDT
END:DAYLIGHT
END:VTIMEZONE
END:VCALENDAR