BEGIN:VCALENDAR
VERSION:2.0
PRODID:-//wp-events-plugin.com//7.2.3.1//EN
TZID:America/Detroit
X-WR-TIMEZONE:America/Detroit
BEGIN:VEVENT
UID:34562@arabamerica.com
DTSTART;TZID=America/Detroit:20250629T130000
DTEND;TZID=America/Detroit:20250629T150000
DTSTAMP:20250610T222031Z
URL:https://www.arabamerica.com/events/cheesemaking-in-a-home-kitchen-yogu
 rt-labneh-and-persian-feta/
SUMMARY:Cheesemaking in a Home Kitchen - Yogurt\, Labneh and Persian Feta
DESCRIPTION:PITTSBURGH\, PA\n\n&nbsp\;\n\nLearn how to make Yogurt\, Middle
  Eastern Labneh and Persian Feta right in your own kitchen. No experience 
 or special equipment needed.\n\nThis class will begin with how to make the
  very best Bulgarian yogurt which is used to make Middle Eastern Labneh. T
 his Labneh has the highest protein and probiotics of all types. Middle Eas
 tern Labnah's origins date back to 5000 BC - 2000 BC to the Levant region\
 , encompassing modern-day Lebanon\, Syria\, Jordan and Palestine. It was a
  solution for preserving Yogurt. We will learn how to marinate Labneh in Z
 a'atar herbal seasoning in olive oil.\n\nAlso included in this class is ho
 w to make Persian Feta and how it differs from Greek Feta. Not all Feta is
  created equal. Greek Feta is more salty\, dry and crumbly than Persian Fe
 ta. Persian Feta gains its popularity due to it's soft\, creamy\, buttery 
 taste. In this class we will marinate it in Herbes de Provence and olive o
 il.\n\nWe will explore marinating techniques using dry herbs and discuss s
 anitation principles involved in marinating fresh cheeses\, as well as rec
 ipes to make a delicious and different herbal marinade for each of the che
 eses.\n\nTake home recipes for making the cheeses and a sample of marinate
 d Labneh and Persian Feta made in Rebecca's very own kitchen.\n\nGet Ticke
 ts Here
ATTACH;FMTTYPE=image/jpeg:https://www.arabamerica.com/wp-content/uploads/2
 025/06/Screenshot-2025-06-10-at-6.21.13-PM.png
CATEGORIES:Community,culture,Food
LOCATION:Chantal's Cheese Shop\, 4402 Penn Avenue\, Pittsburgh \, PA\, 1522
 4\, United States
GEO:40.465823;-79.953337
X-APPLE-STRUCTURED-LOCATION;VALUE=URI;X-ADDRESS=4402 Penn Avenue\, Pittsbur
 gh \, PA\, 15224\, United States;X-APPLE-RADIUS=100;X-TITLE=Chantal's Chee
 se Shop:geo:40.465823,-79.953337
END:VEVENT
BEGIN:VTIMEZONE
TZID:America/Detroit
X-LIC-LOCATION:America/Detroit
BEGIN:DAYLIGHT
DTSTART:20250309T030000
TZOFFSETFROM:-0500
TZOFFSETTO:-0400
TZNAME:EDT
END:DAYLIGHT
END:VTIMEZONE
END:VCALENDAR