BEGIN:VCALENDAR
VERSION:2.0
PRODID:-//wp-events-plugin.com//7.2.3.1//EN
TZID:America/Detroit
X-WR-TIMEZONE:America/Detroit
BEGIN:VEVENT
UID:30468@arabamerica.com
DTSTART;TZID=America/Detroit:20230416T191500
DTEND;TZID=America/Detroit:20230416T204500
DTSTAMP:20230213T212832Z
URL:https://www.arabamerica.com/events/chicagoland-welcome-to-the-fold-new
 comers-iftar/
SUMMARY:Chicagoland Welcome to the Fold: Newcomers Iftar
DESCRIPTION:Chicago\, IL\n\nAbout this event\n\n\n\n\n\nJoin us this month 
 at Ta'leef in Chicago for a Newcomers' Iftar! Come break bread with others
  as we enter into the last week of Ramadan.\n\nPlease register so we can 
 expect you and have enough food for everyone! Dinner will be served after 
 maghrib prayer followed by a brief presentation on the topic of maximizing
  the last ten nights of Ramadan and a group discussion.\n\nThis gathering 
 is for those who have converted to Islam or are in the process of learn
 ing more about Islam to build connections with others who have undergone 
 similar journeys and have a good time!\n\n\n\n\n\n
ATTACH;FMTTYPE=image/jpeg:https://www.arabamerica.com/wp-content/uploads/2
 023/02/welcome.jpeg
CATEGORIES:Islam,Islam Faith,Ramadan Banquet,Ramadan Iftar
LOCATION:Ta'leef Chicago\, 1935 S. Halsted\, chicago\, IL\, 60608\, United 
 States
GEO:41.855599;-87.64626
X-APPLE-STRUCTURED-LOCATION;VALUE=URI;X-ADDRESS=1935 S. Halsted\, chicago\,
  IL\, 60608\, United States;X-APPLE-RADIUS=100;X-TITLE=Ta'leef Chicago:geo
 :41.855599,-87.64626
END:VEVENT
BEGIN:VTIMEZONE
TZID:America/Detroit
X-LIC-LOCATION:America/Detroit
BEGIN:DAYLIGHT
DTSTART:20230312T030000
TZOFFSETFROM:-0500
TZOFFSETTO:-0400
TZNAME:EDT
END:DAYLIGHT
END:VTIMEZONE
END:VCALENDAR