BEGIN:VCALENDAR
VERSION:2.0
PRODID:-//wp-events-plugin.com//7.2.3.1//EN
TZID:America/Detroit
X-WR-TIMEZONE:America/Detroit
BEGIN:VEVENT
UID:35676@arabamerica.com
DTSTART;TZID=America/New_York:20260226T043000
DTEND;TZID=America/New_York:20260226T060000
DTSTAMP:20260107T084315Z
URL:https://www.arabamerica.com/events/china-and-the-asymmetric-great-powe
 r-competition-in-the-middle-east/
SUMMARY:China and the Asymmetric Great Power Competition in the Middle East
DESCRIPTION:CAMBRIDGE\, MA\n\n\nChina and the Asymmetric Great Power Compet
 ition in the Middle East\n\n\nFebruary 26\, 2026\n04:30PM - 06:00PM EST\n\
 n\n\nCGIS Knafel 262\n\n\n\n1737 Cambridge St\nCambridge\, MA 02138\nUni
 ted States\nThe WCFIA/CMES Middle East Seminar presents\n\nGangzhen She\n
 Visiting Scholar\, Weatherhead Center for International Affairs\; Director
 \, Center for Overseas Security and Associate Professor Department of Inte
 rnational Relations\, Tsinghua University\, China\n\nCo-sponsors: Weather
 head Center for International Affairs\, Center for Middle Eastern Studies\
 n\nContact: Liz Flanagan\n\n\n\n\n\n\n\n\n\n\n\n\n\n\n\n\n\n
ATTACH;FMTTYPE=image/jpeg:https://www.arabamerica.com/wp-content/uploads/2
 020/09/China_Arab_League_Locator.png
CATEGORIES:Community,Discussion,Lecture
LOCATION:CGIS Knafel 262\, 1737 Cambridge st.\, Cambridge \, MA \, United S
 tates
GEO:42.375638;-71.1132356
X-APPLE-STRUCTURED-LOCATION;VALUE=URI;X-ADDRESS=1737 Cambridge st.\, Cambri
 dge \, MA \, United States;X-APPLE-RADIUS=100;X-TITLE=CGIS Knafel 262:geo:
 42.375638,-71.1132356
END:VEVENT
BEGIN:VTIMEZONE
TZID:America/New_York
X-LIC-LOCATION:America/New_York
BEGIN:STANDARD
DTSTART:20251102T010000
TZOFFSETFROM:-0400
TZOFFSETTO:-0500
TZNAME:EST
END:STANDARD
END:VTIMEZONE
END:VCALENDAR