BEGIN:VCALENDAR
VERSION:2.0
PRODID:-//wp-events-plugin.com//7.2.3.1//EN
TZID:America/Detroit
X-WR-TIMEZONE:America/Detroit
BEGIN:VEVENT
UID:35431@arabamerica.com
DTSTART;TZID=America/Los_Angeles:20251219T183000
DTEND;TZID=America/Los_Angeles:20251219T183000
DTSTAMP:20251118T230246Z
URL:https://www.arabamerica.com/events/christmas-potluck-dinner-for-christ
 ians-and-muslims-2/
SUMMARY:Christmas Potluck dinner for Christians and Muslims
DESCRIPTION:\nRENTON\, WA\nA Christmas-themed dinner for Christians and Mus
 lims to make friends and have meaningful conversation about life's biggest
  questions.\n\n\n\n\nChristianity and Islam are the world's biggest ideas 
 and it is important that we have meaningful conversations and real friends
 hips with one another.\n\nJoin us for a night of tasty food and meaningful
  conversation hosted by Sunset Community Church and The Al-Ma'idah Initiat
 ive. Please bring a halal dish to share! It can be a winter/Christmas them
 ed dish\, something your family loves to make\, or something you pick up f
 rom the grocery store on the way : ) Consider wearing a [ugly] Christmas s
 weater to complete the vibes. Get ready for the hot cocoa bar! The only pr
 ogramming for the evening will be dinner and conversation at tables... and
  a hot cocoa bar. And sweaters.\n\nThe Al-Ma'idah Initiative is a Christia
 n nonprofit organization that facilitates friendship and conversation betw
 een Christians and Muslims. Learn more at al-maidah.org\n\nREGISTER HERE\n
 \n&nbsp\;\n\n\n
ATTACH;FMTTYPE=image/jpeg:https://www.arabamerica.com/wp-content/uploads/2
 025/11/Screenshot-2025-11-18-at-6.03.08-PM.png
LOCATION:Sunset Community Church\, 1032 Edmonds Avenue Northeast \, Renton\
 , WA\, 98056\, United States
GEO:47.499984;-122.185189
X-APPLE-STRUCTURED-LOCATION;VALUE=URI;X-ADDRESS=1032 Edmonds Avenue Northea
 st \, Renton\, WA\, 98056\, United States;X-APPLE-RADIUS=100;X-TITLE=Sunse
 t Community Church:geo:47.499984,-122.185189
END:VEVENT
BEGIN:VTIMEZONE
TZID:America/Los_Angeles
X-LIC-LOCATION:America/Los_Angeles
BEGIN:STANDARD
DTSTART:20251102T010000
TZOFFSETFROM:-0700
TZOFFSETTO:-0800
TZNAME:PST
END:STANDARD
END:VTIMEZONE
END:VCALENDAR