BEGIN:VCALENDAR
VERSION:2.0
PRODID:-//wp-events-plugin.com//7.2.3.1//EN
TZID:America/Detroit
X-WR-TIMEZONE:America/Detroit
BEGIN:VEVENT
UID:35430@arabamerica.com
DTSTART;TZID=America/Detroit:20251213T183000
DTEND;TZID=America/Detroit:20251213T183000
DTSTAMP:20251118T225606Z
URL:https://www.arabamerica.com/events/christmas-potluck-dinner-for-christ
 ians-and-muslims/
SUMMARY:Christmas Potluck dinner for Christians and Muslims
DESCRIPTION:\nLYNNWOOD\, WA\nA Christmas-themed dinner for Christians and M
 uslims to make friends and have meaningful conversation about life's bigge
 st questions.\n\n\n\n\nChristianity and Islam are the world's biggest idea
 s and it is important that we have meaningful conversations and real frien
 dships with one another.\n\nJoin us for a night of tasty food and meaningf
 ul conversation hosted by Mill Creek Foursquare Church and The Al-Ma'idah 
 Initiative. Please bring a halal dish to share! It can be a winter/Christm
 as themed dish\, something your family loves to make\, or something you pi
 ck up from the grocery store on the way : ) Consider wearing a [ugly] Chri
 stmas sweater to complete the vibes. Get ready for the hot cocoa bar! The 
 only programming for the evening will be dinner and conversation at tables
 ... and a hot cocoa bar. And sweaters.\n\nThe Al-Ma'idah Initiative is a C
 hristian nonprofit organization that facilitates friendship and conversati
 on between Christians and Muslims. Learn more at al-maidah.org\n\nGet Tick
 ets Here\n\n\n
ATTACH;FMTTYPE=image/jpeg:https://www.arabamerica.com/wp-content/uploads/2
 025/11/Screenshot-2025-11-18-at-5.51.28-PM.png
LOCATION:Mill Creek Foursquare Church\, 1415 164th Street Southwest\, Lynnw
 ood \, WA\, 98087\, United States
GEO:47.849953;-122.252691
X-APPLE-STRUCTURED-LOCATION;VALUE=URI;X-ADDRESS=1415 164th Street Southwest
 \, Lynnwood \, WA\, 98087\, United States;X-APPLE-RADIUS=100;X-TITLE=Mill 
 Creek Foursquare Church:geo:47.849953,-122.252691
END:VEVENT
BEGIN:VTIMEZONE
TZID:America/Detroit
X-LIC-LOCATION:America/Detroit
BEGIN:STANDARD
DTSTART:20251102T010000
TZOFFSETFROM:-0400
TZOFFSETTO:-0500
TZNAME:EST
END:STANDARD
END:VTIMEZONE
END:VCALENDAR