BEGIN:VCALENDAR
VERSION:2.0
PRODID:-//wp-events-plugin.com//7.2.3.1//EN
TZID:America/Detroit
X-WR-TIMEZONE:America/Detroit
BEGIN:VEVENT
UID:34894@arabamerica.com
DTSTART;TZID=America/Detroit:20251008T180000
DTEND;TZID=America/Detroit:20251008T210000
DTSTAMP:20250804T195428Z
URL:https://www.arabamerica.com/events/chutni-x-mezze-a-south-indian-and-l
 ebanese-vegetarian-cooking-class/
SUMMARY:CHUTNI X MEZZE - A South Indian and Lebanese Vegetarian Cooking Cla
 ss
DESCRIPTION:CHAGRIN FALL\, OH\n\n\n\n\n\nCHUTNI X MEZZE - A South Indian an
 d Lebanese Vegetarian Cooking Class\n\nCome join us for a unique culinary 
 experience where South Indian flavors meet Lebanese delights! In this hand
 s-on cooking class\, you will learn how to prepare a variety of vegetarian
  dishes that combine the rich spices of South India with the fresh ingredi
 ents of Lebanese cuisine.\n\nHosted at Stir Studio Kitchen\, Sahithya of @
 chutnipunch and Rawia of @eatbeituti are teaming up for a hands-on\, flavo
 r-packed cooking class that brings together the bold\, vibrant tastes of S
 outh India and Lebanon.You'll cook (and eat!) a delicious spread — from 
 creamy hummus with a spiced twist\, to crispy falafel\, daal\, lemony rice
 \, roasted cauliflower\, and a turmeric semolina cake to end on a sweet no
 te. &#x1f370\;Spots are limited — come hungry and ready to cook!\n\n\n\n
 \n\n\n\n\n\n\n\n\n\n\n\n\n
ATTACH;FMTTYPE=image/jpeg:https://www.arabamerica.com/wp-content/uploads/2
 025/08/chhhh.jpeg
LOCATION:Stir Studio Kitchen\, 100 North Main Street \, Chagrin Falls\, OH\
 , 44022\, United States
GEO:41.433016;-81.39236
X-APPLE-STRUCTURED-LOCATION;VALUE=URI;X-ADDRESS=100 North Main Street \, Ch
 agrin Falls\, OH\, 44022\, United States;X-APPLE-RADIUS=100;X-TITLE=Stir S
 tudio Kitchen:geo:41.433016,-81.39236
END:VEVENT
BEGIN:VTIMEZONE
TZID:America/Detroit
X-LIC-LOCATION:America/Detroit
BEGIN:DAYLIGHT
DTSTART:20250309T030000
TZOFFSETFROM:-0500
TZOFFSETTO:-0400
TZNAME:EDT
END:DAYLIGHT
END:VTIMEZONE
END:VCALENDAR