BEGIN:VCALENDAR
VERSION:2.0
PRODID:-//wp-events-plugin.com//7.2.3.1//EN
TZID:America/Detroit
X-WR-TIMEZONE:America/Detroit
BEGIN:VEVENT
UID:35311@arabamerica.com
DTSTART;TZID=America/Detroit:20251115T183000
DTEND;TZID=America/Detroit:20251115T183000
DTSTAMP:20251028T005045Z
URL:https://www.arabamerica.com/events/classical-arabic-music/
SUMMARY:Classical Arabic Music
DESCRIPTION:BROOKLYN\, NY\n\n\n\nWelcome to Classical Arabic Music! Join us
  at Healing Bean Cafe | Arts and Coffee for an enchanting evening filled w
 ith the soulful melodies of traditional Arabic music. Immerse yourself in 
 the rich cultural heritage of the Middle East as talented musicians take y
 ou on a musical journey through time. Whether you're a fan of classical mu
 sic or looking to experience something new\, this event promises to be a f
 east for the senses. Don't miss this unique opportunity to appreciate the 
 beauty of Arabic music in a cozy and intimate setting. Come and enjoy the 
 magic of Classical Arabic Music with us!
ATTACH;FMTTYPE=image/jpeg:https://www.arabamerica.com/wp-content/uploads/2
 025/10/https-cdn.evbuc_.com-images-1162539073-2929462111961-1-original.202
 51025-231555.jpeg
LOCATION:Healing Bean Cafe | Arts and Coffee\, 7904 3rd Avenue\, Brooklyn\,
  NY\, 11209\, United States
GEO:40.6284;-74.029213
X-APPLE-STRUCTURED-LOCATION;VALUE=URI;X-ADDRESS=7904 3rd Avenue\, Brooklyn\
 , NY\, 11209\, United States;X-APPLE-RADIUS=100;X-TITLE=Healing Bean Cafe 
 | Arts and Coffee:geo:40.6284,-74.029213
END:VEVENT
BEGIN:VTIMEZONE
TZID:America/Detroit
X-LIC-LOCATION:America/Detroit
BEGIN:STANDARD
DTSTART:20251102T010000
TZOFFSETFROM:-0400
TZOFFSETTO:-0500
TZNAME:EST
END:STANDARD
END:VTIMEZONE
END:VCALENDAR