BEGIN:VCALENDAR
VERSION:2.0
PRODID:-//wp-events-plugin.com//7.2.3.1//EN
TZID:America/Detroit
X-WR-TIMEZONE:America/Detroit
BEGIN:VEVENT
UID:35784@arabamerica.com
DTSTART;TZID=America/Detroit:20260207T163000
DTEND;TZID=America/Detroit:20260207T230000
DTSTAMP:20260130T190839Z
URL:https://www.arabamerica.com/events/cleveland-palestine-film-festival/
SUMMARY:Cleveland Palestine Film Festival
DESCRIPTION:Welcome to the 2026 Cleveland Palestine Film Festival! Join 
 us at Lakewood Civic Auditorium for a cinematic celebration of Palestinian
  culture and storytelling. Immerse yourself in a diverse selection of film
 s that capture the beauty\, resilience\, and complexity of Palestine. From
  thought-provoking documentaries to captivating dramas\, this festival off
 ers a unique opportunity to explore the rich cinematic landscape of Palest
 ine.
ATTACH;FMTTYPE=image/jpeg:https://www.arabamerica.com/wp-content/uploads/2
 026/01/image-9-2.webp
LOCATION:Lakewood Civic Auditorium\, 14100 Franklin Boulevard  #Suite 1\, D
 oor 4\, Lakewood\, OH\, 44107\, United States
GEO:41.481212;-81.792309
X-APPLE-STRUCTURED-LOCATION;VALUE=URI;X-ADDRESS=14100 Franklin Boulevard  #
 Suite 1\, Door 4\, Lakewood\, OH\, 44107\, United States;X-APPLE-RADIUS=10
 0;X-TITLE=Lakewood Civic Auditorium:geo:41.481212,-81.792309
END:VEVENT
BEGIN:VTIMEZONE
TZID:America/Detroit
X-LIC-LOCATION:America/Detroit
BEGIN:STANDARD
DTSTART:20251102T010000
TZOFFSETFROM:-0400
TZOFFSETTO:-0500
TZNAME:EST
END:STANDARD
END:VTIMEZONE
END:VCALENDAR