BEGIN:VCALENDAR
VERSION:2.0
PRODID:-//wp-events-plugin.com//7.2.3.1//EN
TZID:America/Detroit
X-WR-TIMEZONE:America/Detroit
BEGIN:VEVENT
UID:35569@arabamerica.com
DTSTART;TZID=America/Detroit:20260327T000000
DTEND;TZID=America/Detroit:20260328T000000
DTSTAMP:20251216T170155Z
URL:https://www.arabamerica.com/events/cleveland-suhoor-festival-2026/
SUMMARY:Cleveland Suhoor Festival 2026
DESCRIPTION:\n\nOverview\n\n\n\n\n\nCome experience the Cleveland Suhoor Fe
 stival—an unforgettable night of delicious food\, unique shopping\, and 
 vibrant community spirit!\n\n\n\n\nWelcome to the Cleveland Suhoor Festiva
 l!\n\nJoin us at La Villa CBC on Brookpark Road for FOUR memorable nights 
 of delicious food\, interactive vendors and great company!\n\nThe Suhoor F
 estival is a special time to come together with friends and family for a p
 re-dawn meal during the holy month of Ramadan. Savor traditional dishes\, 
 immerse in a diverse cultural experience and create unforgettable memories
 . This in-person event in Cleveland\, OH\, promises a night filled with ce
 lebration and connection. Don’t miss this unique opportunity to experien
 ce the spirit of community—see you there!\n\n\n\n\n\n
LOCATION:La Villa cbc\, 11500 Brookpark Road\, Cleveland\, OH\, 44130\, Uni
 ted States
GEO:41.420486;-81.769121
X-APPLE-STRUCTURED-LOCATION;VALUE=URI;X-ADDRESS=11500 Brookpark Road\, Clev
 eland\, OH\, 44130\, United States;X-APPLE-RADIUS=100;X-TITLE=La Villa cbc
 :geo:41.420486,-81.769121
END:VEVENT
BEGIN:VTIMEZONE
TZID:America/Detroit
X-LIC-LOCATION:America/Detroit
BEGIN:DAYLIGHT
DTSTART:20260308T030000
TZOFFSETFROM:-0500
TZOFFSETTO:-0400
TZNAME:EDT
END:DAYLIGHT
END:VTIMEZONE
END:VCALENDAR