BEGIN:VCALENDAR
VERSION:2.0
PRODID:-//wp-events-plugin.com//7.2.3.1//EN
TZID:America/Detroit
X-WR-TIMEZONE:America/Detroit
BEGIN:VEVENT
UID:31015@arabamerica.com
DTSTART;TZID=America/Detroit:20230512T220000
DTEND;TZID=America/Detroit:20230513T030000
DTSTAMP:20230510T180512Z
URL:https://www.arabamerica.com/events/club-arabia/
SUMMARY:CLUB ARABIA
DESCRIPTION:New York\, NY\nAttention all partygoers! Get ready to experienc
 e the ultimate Middle Eastern party of the year\, Club Arabia! Join us on 
 May 12 for an unforgettable night of music\, dance\, and entertainment.\n\
 n&nbsp\;\n\nOur lineup features the #1 Middle Eastern Dee Jay\, DJ Wakim\,
  who will be spinning the hottest and most popular Arab songs all night lo
 ng\, making sure you never leave the dance floor.\n\n&nbsp\;\n\nAdding to 
 the excitement is the incredible Sultana Belly Dancer\, whose captivating 
 moves and mesmerizing performance will leave you spellbound. The Afrah Eve
 nts Tabla drummer will add to the rhythm and beats of the night\, taking y
 our party experience to the next level.\n\n&nbsp\;\n\nBut that's not all! 
 We also have a special surprise aerialist who will take your breath away w
 ith their stunning acrobatics and gravity-defying feats.\n\n&nbsp\;\n\nSo\
 , dust off your dancing shoes and get ready to party like never before. Jo
 in us at Club Arabia on May 12 for a night of pure fun\, energy\, and exci
 tement. Don't miss out on this epic event\, and make sure to bring your fr
 iends along for a night they'll never forget!
ATTACH;FMTTYPE=image/jpeg:https://www.arabamerica.com/wp-content/uploads/2
 023/05/Screen-Shot-2023-05-10-at-2.03.32-PM.png
CATEGORIES:Music/Folk/World
LOCATION:Secret Room New York\, 707 8th Avenue\, New York\, NY\, 10036\, Un
 ited States
GEO:40.758968;-73.988785
X-APPLE-STRUCTURED-LOCATION;VALUE=URI;X-ADDRESS=707 8th Avenue\, New York\,
  NY\, 10036\, United States;X-APPLE-RADIUS=100;X-TITLE=Secret Room New Yor
 k:geo:40.758968,-73.988785
END:VEVENT
BEGIN:VTIMEZONE
TZID:America/Detroit
X-LIC-LOCATION:America/Detroit
BEGIN:DAYLIGHT
DTSTART:20230312T030000
TZOFFSETFROM:-0500
TZOFFSETTO:-0400
TZNAME:EDT
END:DAYLIGHT
END:VTIMEZONE
END:VCALENDAR