BEGIN:VCALENDAR
VERSION:2.0
PRODID:-//wp-events-plugin.com//7.2.3.1//EN
TZID:America/Detroit
X-WR-TIMEZONE:America/Detroit
BEGIN:VEVENT
UID:31569@arabamerica.com
DTSTART;TZID=America/Detroit:20231022T120000
DTEND;TZID=America/Detroit:20231029T170000
DTSTAMP:20230816T154023Z
URL:https://www.arabamerica.com/events/co-work-dance-surf-explore-moroccan
 -food-culture/
SUMMARY:Co-work\, Dance\, Surf & Explore Moroccan food & culture
DESCRIPTION:
ATTACH;FMTTYPE=image/jpeg:https://www.arabamerica.com/wp-content/uploads/2
 023/08/https___cdn.evbuc_.com_images_571054119_159516412920_1_original.jpe
 g
CATEGORIES:#arabic,Arab American,Community,culture,Food
LOCATION:TEDDY PIRATE AFTAS 12 Taghazout\, TEDDY PIRATE AFTAS 12 Taghazout\
 , AL 80200 Morocco\, Taghazout\, Morocco \, United States
GEO:30.545337;-9.708986
X-APPLE-STRUCTURED-LOCATION;VALUE=URI;X-ADDRESS=TEDDY PIRATE AFTAS 12 Tagha
 zout\, AL 80200 Morocco\, Taghazout\, Morocco \, United States;X-APPLE-RAD
 IUS=100;X-TITLE=TEDDY PIRATE AFTAS 12 Taghazout:geo:30.545337,-9.708986
END:VEVENT
BEGIN:VTIMEZONE
TZID:America/Detroit
X-LIC-LOCATION:America/Detroit
BEGIN:DAYLIGHT
DTSTART:20230312T030000
TZOFFSETFROM:-0500
TZOFFSETTO:-0400
TZNAME:EDT
END:DAYLIGHT
END:VTIMEZONE
END:VCALENDAR